FILENAME: O4811153.SES.1088086.tif
QUADRANGLE_NAME: SOLLID SCHOOL
QUADRANT: SE
WEST_LONGITUDE: -111 26 15.00000
EAST_LONGITUDE: -111 22 30.00000
NORTH_LATITUDE: 48 11 15.00000
SOUTH_LATITUDE: 48 7 30.00000
PRODUCTION_DATE: 2000 8 9
RASTER_ORDER: LEFT_RIGHT/TOP_BOTTOM
BAND_ORGANIZATION: SINGLE FILE
BAND_CONTENT: BLACK&WHITE
BAND_CONTENT: UNDEFINED
BAND_CONTENT: UNDEFINED
BITS_PER_PIXEL: 8
SAMPLES_AND_LINES: 5348 7577
HORIZONTAL_DATUM: NAD83
HORIZONTAL_COORDINATE_SYSTEM: UTM
COORDINATE_ZONE: 12
HORIZONTAL_UNITS: METERS
HORIZONTAL_RESOLUTION: 1.00000
SECONDARY_HORIZONTAL_DATUM: NAD27
XY_ORIGIN: 467081.00000 5337534.00000
SECONDARY_XY_ORIGIN: 467141.00000 5337318.00000
NATION: US
STATE: MT
NW_QUAD_CORNER_XY: 467482.93400 5337232.94400
NE_QUAD_CORNER_XY: 472128.22100 5337208.39500
SE_QUAD_CORNERY_XY: 472094.35000 5330261.60600
SW_QUAD_CORNER_XY: 467443.41700 5330286.16100
SECONDARY_NW_QUAD_XY: 467481.90700 5337014.02600
SECONDARY_NE_QUAD_XY: 472127.34100 5336989.47600
SECONDARY_SE_QUAD_XY: 472093.46900 5330042.69900
SECONDARY_SW_QUAD_XY: 467442.39000 5330067.25500
RMSE_XY: 1.40000
IMAGE_SOURCE: BLACK AND WHITE FILM
SOURCE_IMAGE_ID: NAPP 9175 127
SOURCE_IMAGE_DATE: 1997 8 30
SOURCE_DEM_DATE: 1969 0 0
AGENCY: ROCKY MOUNTAIN MAPPING CENTER (RMMC)
PRODUCER: ROCKY MOUNTAIN MAPPING CENTER (RMMC)
PRODUCTION_SYSTEM: DV2.6.3 10/9OV2.4 5/95
COMPRESSION: UNDEFINED
STANDARD_VERSION: 1996 12
METADATA_DATE: 2000 8 9
DATA_FILE_SIZE: 40527144
BYTE_COUNT: 5348
