FILENAME: O4811152.SWS.958522.tif
QUADRANGLE_NAME: FOWLER COULEE NE
QUADRANT: SW
WEST_LONGITUDE: -111 37 30.00000
EAST_LONGITUDE: -111 33 45.00000
NORTH_LATITUDE: 48 11 15.00000
SOUTH_LATITUDE: 48 7 30.00000
PRODUCTION_DATE: 1999 1 28
RASTER_ORDER: LEFT_RIGHT/TOP_BOTTOM
BAND_ORGANIZATION: SINGLE FILE
BAND_CONTENT: BLACK&WHITE
BAND_CONTENT: UNDEFINED
BAND_CONTENT: UNDEFINED
BITS_PER_PIXEL: 8
SAMPLES_AND_LINES: 5364 7588
HORIZONTAL_DATUM: NAD83
HORIZONTAL_COORDINATE_SYSTEM: UTM
COORDINATE_ZONE: 12
HORIZONTAL_UNITS: METERS
HORIZONTAL_RESOLUTION: 1.00000
SECONDARY_HORIZONTAL_DATUM: NAD27
XY_ORIGIN: 453128.00000 5337630.00000
SECONDARY_XY_ORIGIN: 453188.00000 5337414.00000
NATION: US
STATE: MT
NW_QUAD_CORNER_XY: 453547.10000 5337329.25400
NE_QUAD_CORNER_XY: 458192.37300 5337293.37400
SE_QUAD_CORNERY_XY: 458141.56400 5330346.60500
SW_QUAD_CORNER_XY: 453490.64600 5330382.49400
SECONDARY_NW_QUAD_XY: 453545.63200 5337110.33900
SECONDARY_NE_QUAD_XY: 458191.05200 5337074.45700
SECONDARY_SE_QUAD_XY: 458140.24400 5330127.70100
SECONDARY_SW_QUAD_XY: 453489.17900 5330163.59100
RMSE_XY: 2.20000
IMAGE_SOURCE: BLACK AND WHITE FILM
SOURCE_IMAGE_ID: NAPP 9176 082
SOURCE_IMAGE_DATE: 1997 8 30
SOURCE_DEM_DATE: 1965 0 0
AGENCY: WESTERN MAPPING CENTER (WMC)
PRODUCER: ROCKY MOUNTAIN MAPPING CENTER (RMMC)
PRODUCTION_SYSTEM: DV2.6.3 10/9OV2.4 5/95
COMPRESSION: UNDEFINED
STANDARD_VERSION: 1996 12
METADATA_DATE: 1999 2 1
DATA_FILE_SIZE: 40707396
BYTE_COUNT: 5364
