FILENAME: O4811151.NWS.958478.tif
QUADRANGLE_NAME: FOWLER COULEE NW
QUADRANT: NW
WEST_LONGITUDE: -111 45 0.00000
EAST_LONGITUDE: -111 41 15.00000
NORTH_LATITUDE: 48 15 0.00000
SOUTH_LATITUDE: 48 11 15.00000
PRODUCTION_DATE: 1999 1 28
RASTER_ORDER: LEFT_RIGHT/TOP_BOTTOM
BAND_ORGANIZATION: SINGLE FILE
BAND_CONTENT: BLACK&WHITE
BAND_CONTENT: UNDEFINED
BAND_CONTENT: UNDEFINED
BITS_PER_PIXEL: 8
SAMPLES_AND_LINES: 5372 7595
HORIZONTAL_DATUM: NAD83
HORIZONTAL_COORDINATE_SYSTEM: UTM
COORDINATE_ZONE: 12
HORIZONTAL_UNITS: METERS
HORIZONTAL_RESOLUTION: 1.00000
SECONDARY_HORIZONTAL_DATUM: NAD27
XY_ORIGIN: 443893.00000 5344660.00000
SECONDARY_XY_ORIGIN: 443953.95200 5344442.92100
NATION: US
STATE: MT
NW_QUAD_CORNER_XY: 444324.38600 5344359.16100
NE_QUAD_CORNER_XY: 448963.99400 5344315.73700
SE_QUAD_CORNERY_XY: 448901.83300 5337368.91200
SW_QUAD_CORNER_XY: 444256.57300 5337412.34600
SECONDARY_NW_QUAD_XY: 444322.62500 5344140.23700
SECONDARY_NE_QUAD_XY: 448962.38000 5344096.81100
SECONDARY_SE_QUAD_XY: 448900.21900 5337149.99700
SECONDARY_SW_QUAD_XY: 444254.81200 5337193.43300
RMSE_XY: 1.90000
IMAGE_SOURCE: BLACK AND WHITE FILM
SOURCE_IMAGE_ID: NAPP 9178 163
SOURCE_IMAGE_DATE: 1997 9 4
SOURCE_DEM_DATE: 1965 0 0
AGENCY: WESTERN MAPPING CENTER (WMC)
PRODUCER: ROCKY MOUNTAIN MAPPING CENTER (RMMC)
PRODUCTION_SYSTEM: DV2.6.3 10/9OV2.4 5/95
COMPRESSION: UNDEFINED
STANDARD_VERSION: 1996 12
METADATA_DATE: 1999 2 1
DATA_FILE_SIZE: 40805712
BYTE_COUNT: 5372
