FILENAME: O4811150.NWS.958540.tif
QUADRANGLE_NAME: LETZ LAKE
QUADRANT: NW
WEST_LONGITUDE: -111 52 30.00000
EAST_LONGITUDE: -111 48 45.00000
NORTH_LATITUDE: 48 15 0.00000
SOUTH_LATITUDE: 48 11 15.00000
PRODUCTION_DATE: 1999 2 8
RASTER_ORDER: LEFT_RIGHT/TOP_BOTTOM
BAND_ORGANIZATION: SINGLE FILE
BAND_CONTENT: BLACK&WHITE
BAND_CONTENT: UNDEFINED
BAND_CONTENT: UNDEFINED
BITS_PER_PIXEL: 8
SAMPLES_AND_LINES: 5384 7603
HORIZONTAL_DATUM: NAD83
HORIZONTAL_COORDINATE_SYSTEM: UTM
COORDINATE_ZONE: 12
HORIZONTAL_UNITS: METERS
HORIZONTAL_RESOLUTION: 1.00000
SECONDARY_HORIZONTAL_DATUM: NAD27
XY_ORIGIN: 434602.00000 5344758.00000
SECONDARY_XY_ORIGIN: 434663.18000 5344540.78500
NATION: US
STATE: MT
NW_QUAD_CORNER_XY: 435045.19200 5344457.33900
NE_QUAD_CORNER_XY: 439684.78500 5344406.36200
SE_QUAD_CORNERY_XY: 439611.32100 5337459.55800
SW_QUAD_CORNER_XY: 434966.07600 5337510.54800
SECONDARY_NW_QUAD_XY: 435043.13700 5344238.41800
SECONDARY_NE_QUAD_XY: 439682.87700 5344187.43900
SECONDARY_SE_QUAD_XY: 439609.41300 5337240.64700
SECONDARY_SW_QUAD_XY: 434964.02100 5337291.63800
RMSE_XY: 0.90000
IMAGE_SOURCE: BLACK AND WHITE FILM
SOURCE_IMAGE_ID: NAPP 9178 042
SOURCE_IMAGE_DATE: 1997 9 4
SOURCE_DEM_DATE: 1965 0 0
AGENCY: WESTERN MAPPING CENTER (WMC)
PRODUCER: ROCKY MOUNTAIN MAPPING CENTER (RMMC)
PRODUCTION_SYSTEM: DV2.6.3 10/9OV2.4 5/95
COMPRESSION: UNDEFINED
STANDARD_VERSION: 1996 12
METADATA_DATE: 1999 2 9
DATA_FILE_SIZE: 40939936
BYTE_COUNT: 5384
