FILENAME: O4811149.NES.958535.tif
QUADRANGLE_NAME: CONRAD
QUADRANT: NE
WEST_LONGITUDE: -111 56 15.00000
EAST_LONGITUDE: -111 52 30.00000
NORTH_LATITUDE: 48 15 0.00000
SOUTH_LATITUDE: 48 11 15.00000
PRODUCTION_DATE: 1999 2 8
RASTER_ORDER: LEFT_RIGHT/TOP_BOTTOM
BAND_ORGANIZATION: SINGLE FILE
BAND_CONTENT: BLACK&WHITE
BAND_CONTENT: UNDEFINED
BAND_CONTENT: UNDEFINED
BITS_PER_PIXEL: 8
SAMPLES_AND_LINES: 5388 7607
HORIZONTAL_DATUM: NAD83
HORIZONTAL_COORDINATE_SYSTEM: UTM
COORDINATE_ZONE: 12
HORIZONTAL_UNITS: METERS
HORIZONTAL_RESOLUTION: 1.00000
SECONDARY_HORIZONTAL_DATUM: NAD27
XY_ORIGIN: 429956.00000 5344813.00000
SECONDARY_XY_ORIGIN: 430017.29300 5344595.71600
NATION: US
STATE: MT
NW_QUAD_CORNER_XY: 430405.60800 5344512.09300
NE_QUAD_CORNER_XY: 435045.19200 5344457.33900
SE_QUAD_CORNERY_XY: 434966.07600 5337510.54800
SW_QUAD_CORNER_XY: 430320.84000 5337565.31500
SECONDARY_NW_QUAD_XY: 430403.40600 5344293.17300
SECONDARY_NE_QUAD_XY: 435043.13700 5344238.41800
SECONDARY_SE_QUAD_XY: 434964.02100 5337291.63800
SECONDARY_SW_QUAD_XY: 430318.63800 5337346.40700
RMSE_XY: 1.00000
IMAGE_SOURCE: BLACK AND WHITE FILM
SOURCE_IMAGE_ID: NAPP 9178 095
SOURCE_IMAGE_DATE: 1997 9 4
SOURCE_DEM_DATE: 1965 0 0
AGENCY: WESTERN MAPPING CENTER (WMC)
PRODUCER: ROCKY MOUNTAIN MAPPING CENTER (RMMC)
PRODUCTION_SYSTEM: DV2.6.3 10/9OV2.4 5/95
COMPRESSION: UNDEFINED
STANDARD_VERSION: 1996 12
METADATA_DATE: 1999 2 9
DATA_FILE_SIZE: 40991904
BYTE_COUNT: 5388
