FILENAME: O4811149.NWS.958536.tif
QUADRANGLE_NAME: CONRAD
QUADRANT: NW
WEST_LONGITUDE: -112 0 0.00000
EAST_LONGITUDE: -111 56 15.00000
NORTH_LATITUDE: 48 15 0.00000
SOUTH_LATITUDE: 48 11 15.00000
PRODUCTION_DATE: 1999 2 8
RASTER_ORDER: LEFT_RIGHT/TOP_BOTTOM
BAND_ORGANIZATION: SINGLE FILE
BAND_CONTENT: BLACK&WHITE
BAND_CONTENT: UNDEFINED
BAND_CONTENT: UNDEFINED
BITS_PER_PIXEL: 8
SAMPLES_AND_LINES: 5396 7611
HORIZONTAL_DATUM: NAD83
HORIZONTAL_COORDINATE_SYSTEM: UTM
COORDINATE_ZONE: 12
HORIZONTAL_UNITS: METERS
HORIZONTAL_RESOLUTION: 1.00000
SECONDARY_HORIZONTAL_DATUM: NAD27
XY_ORIGIN: 425311.00000 5344872.00000
SECONDARY_XY_ORIGIN: 425372.40300 5344654.65700
NATION: US
STATE: MT
NW_QUAD_CORNER_XY: 425766.03200 5344570.62300
NE_QUAD_CORNER_XY: 430405.60800 5344512.09300
SE_QUAD_CORNERY_XY: 430320.84000 5337565.31500
SW_QUAD_CORNER_XY: 425675.61200 5337623.85900
SECONDARY_NW_QUAD_XY: 425763.68400 5344351.70500
SECONDARY_NE_QUAD_XY: 430403.40600 5344293.17300
SECONDARY_SE_QUAD_XY: 430318.63800 5337346.40700
SECONDARY_SW_QUAD_XY: 425673.26400 5337404.95300
RMSE_XY: 1.20000
IMAGE_SOURCE: BLACK AND WHITE FILM
SOURCE_IMAGE_ID: NAPP 9178 110
SOURCE_IMAGE_DATE: 1997 9 4
SOURCE_DEM_DATE: 1965 0 0
AGENCY: WESTERN MAPPING CENTER (WMC)
PRODUCER: ROCKY MOUNTAIN MAPPING CENTER (RMMC)
PRODUCTION_SYSTEM: DV2.6.3 10/9OV2.4 5/95
COMPRESSION: UNDEFINED
STANDARD_VERSION: 1996 12
METADATA_DATE: 1999 2 9
DATA_FILE_SIZE: 41074352
BYTE_COUNT: 5396
