FILENAME: O4811149.SES.958537.tif
QUADRANGLE_NAME: CONRAD
QUADRANT: SE
WEST_LONGITUDE: -111 56 15.00000
EAST_LONGITUDE: -111 52 30.00000
NORTH_LATITUDE: 48 11 15.00000
SOUTH_LATITUDE: 48 7 30.00000
PRODUCTION_DATE: 1999 2 8
RASTER_ORDER: LEFT_RIGHT/TOP_BOTTOM
BAND_ORGANIZATION: SINGLE FILE
BAND_CONTENT: BLACK&WHITE
BAND_CONTENT: UNDEFINED
BAND_CONTENT: UNDEFINED
BITS_PER_PIXEL: 8
SAMPLES_AND_LINES: 5396 7607
HORIZONTAL_DATUM: NAD83
HORIZONTAL_COORDINATE_SYSTEM: UTM
COORDINATE_ZONE: 12
HORIZONTAL_UNITS: METERS
HORIZONTAL_RESOLUTION: 1.00000
SECONDARY_HORIZONTAL_DATUM: NAD27
XY_ORIGIN: 429872.00000 5337866.00000
SECONDARY_XY_ORIGIN: 429933.21000 5337649.19800
NATION: US
STATE: MT
NW_QUAD_CORNER_XY: 430320.84000 5337565.31500
NE_QUAD_CORNER_XY: 434966.07600 5337510.54800
SE_QUAD_CORNERY_XY: 434887.03800 5330563.83000
SW_QUAD_CORNER_XY: 430236.15500 5330618.61000
SECONDARY_NW_QUAD_XY: 430318.63800 5337346.40700
SECONDARY_NE_QUAD_XY: 434964.02100 5337291.63800
SECONDARY_SE_QUAD_XY: 434884.98400 5330344.93400
SECONDARY_SW_QUAD_XY: 430233.95400 5330399.71500
RMSE_XY: 1.20000
IMAGE_SOURCE: BLACK AND WHITE FILM
SOURCE_IMAGE_ID: NAPP 9178 097
SOURCE_IMAGE_DATE: 1997 9 4
SOURCE_DEM_DATE: 1965 0 0
AGENCY: WESTERN MAPPING CENTER (WMC)
PRODUCER: ROCKY MOUNTAIN MAPPING CENTER (RMMC)
PRODUCTION_SYSTEM: DV2.6.3 10/9OV2.4 5/95
COMPRESSION: UNDEFINED
STANDARD_VERSION: 1996 12
METADATA_DATE: 1999 2 9
DATA_FILE_SIZE: 41052768
BYTE_COUNT: 5396
