FILENAME: O4811147.NWS.961716.tif
QUADRANGLE_NAME: LOTHAIR SW
QUADRANT: NW
WEST_LONGITUDE: -111 15 0.00000
EAST_LONGITUDE: -111 11 15.00000
NORTH_LATITUDE: 48 22 30.00000
SOUTH_LATITUDE: 48 18 45.00000
PRODUCTION_DATE: 1999 2 26
RASTER_ORDER: LEFT_RIGHT/TOP_BOTTOM
BAND_ORGANIZATION: SINGLE FILE
BAND_CONTENT: BLACK&WHITE
BAND_CONTENT: UNDEFINED
BAND_CONTENT: UNDEFINED
BITS_PER_PIXEL: 8
SAMPLES_AND_LINES: 5312 7565
HORIZONTAL_DATUM: NAD83
HORIZONTAL_COORDINATE_SYSTEM: UTM
COORDINATE_ZONE: 12
HORIZONTAL_UNITS: METERS
HORIZONTAL_RESOLUTION: 1.00000
SECONDARY_HORIZONTAL_DATUM: NAD27
XY_ORIGIN: 481102.00000 5358312.00000
SECONDARY_XY_ORIGIN: 481161.98100 5358094.66700
NATION: US
STATE: MT
NW_QUAD_CORNER_XY: 481486.68200 5358011.47500
NE_QUAD_CORNER_XY: 486115.01000 5357998.26600
SE_QUAD_CORNERY_XY: 486098.02400 5351051.23800
SW_QUAD_CORNER_XY: 481464.03500 5351064.45000
SECONDARY_NW_QUAD_XY: 481486.09500 5357792.52200
SECONDARY_NE_QUAD_XY: 486114.56900 5357779.31200
SECONDARY_SE_QUAD_XY: 486097.58400 5350832.29400
SECONDARY_SW_QUAD_XY: 481463.44800 5350845.50700
RMSE_XY: 1.70000
IMAGE_SOURCE: BLACK AND WHITE FILM
SOURCE_IMAGE_ID: NAPP 9170 022
SOURCE_IMAGE_DATE: 1997 8 22
SOURCE_DEM_DATE: 1962 0 0
AGENCY: WESTERN MAPPING CENTER (WMC)
PRODUCER: ROCKY MOUNTAIN MAPPING CENTER (RMMC)
PRODUCTION_SYSTEM: DV2.6.3 10/9OV2.4 5/95
COMPRESSION: UNDEFINED
STANDARD_VERSION: 1996 12
METADATA_DATE: 1999 2 26
DATA_FILE_SIZE: 40190592
BYTE_COUNT: 5312
