FILENAME: O4811146.NES.961711.tif
QUADRANGLE_NAME: PONDERA SCHOOL
QUADRANT: NE
WEST_LONGITUDE: -111 18 45.00000
EAST_LONGITUDE: -111 15 0.00000
NORTH_LATITUDE: 48 22 30.00000
SOUTH_LATITUDE: 48 18 45.00000
PRODUCTION_DATE: 1999 2 25
RASTER_ORDER: LEFT_RIGHT/TOP_BOTTOM
BAND_ORGANIZATION: SINGLE FILE
BAND_CONTENT: BLACK&WHITE
BAND_CONTENT: UNDEFINED
BAND_CONTENT: UNDEFINED
BITS_PER_PIXEL: 8
SAMPLES_AND_LINES: 5320 7568
HORIZONTAL_DATUM: NAD83
HORIZONTAL_COORDINATE_SYSTEM: UTM
COORDINATE_ZONE: 12
HORIZONTAL_UNITS: METERS
HORIZONTAL_RESOLUTION: 1.00000
SECONDARY_HORIZONTAL_DATUM: NAD27
XY_ORIGIN: 476468.00000 5358329.00000
SECONDARY_XY_ORIGIN: 476528.10200 5358111.63900
NATION: US
STATE: MT
NW_QUAD_CORNER_XY: 476858.35800 5358028.45800
NE_QUAD_CORNER_XY: 481486.68200 5358011.47500
SE_QUAD_CORNERY_XY: 481464.03500 5351064.45000
SW_QUAD_CORNER_XY: 476830.04800 5351081.43700
SECONDARY_NW_QUAD_XY: 476857.62400 5357809.50500
SECONDARY_NE_QUAD_XY: 481486.09500 5357792.52200
SECONDARY_SE_QUAD_XY: 481463.44800 5350845.50700
SECONDARY_SW_QUAD_XY: 476829.31400 5350862.49400
RMSE_XY: 2.00000
IMAGE_SOURCE: BLACK AND WHITE FILM
SOURCE_IMAGE_ID: NAPP 9175 053
SOURCE_IMAGE_DATE: 1997 8 30
SOURCE_DEM_DATE: 1962 0 0
AGENCY: WESTERN MAPPING CENTER (WMC)
PRODUCER: ROCKY MOUNTAIN MAPPING CENTER (RMMC)
PRODUCTION_SYSTEM: DV2.6.3 10/9OV2.4 5/95
COMPRESSION: UNDEFINED
STANDARD_VERSION: 1996 12
METADATA_DATE: 1999 2 26
DATA_FILE_SIZE: 40267080
BYTE_COUNT: 5320
