FILENAME: O4811144.NES.961703.tif
QUADRANGLE_NAME: CENTRAL SCHOOL
QUADRANT: NE
WEST_LONGITUDE: -111 33 45.00000
EAST_LONGITUDE: -111 30 0.00000
NORTH_LATITUDE: 48 22 30.00000
SOUTH_LATITUDE: 48 18 45.00000
PRODUCTION_DATE: 1999 2 24
RASTER_ORDER: LEFT_RIGHT/TOP_BOTTOM
BAND_ORGANIZATION: SINGLE FILE
BAND_CONTENT: BLACK&WHITE
BAND_CONTENT: UNDEFINED
BAND_CONTENT: UNDEFINED
BITS_PER_PIXEL: 8
SAMPLES_AND_LINES: 5344 7584
HORIZONTAL_DATUM: NAD83
HORIZONTAL_COORDINATE_SYSTEM: UTM
COORDINATE_ZONE: 12
HORIZONTAL_UNITS: METERS
HORIZONTAL_RESOLUTION: 1.00000
SECONDARY_HORIZONTAL_DATUM: NAD27
XY_ORIGIN: 457931.00000 5358435.00000
SECONDARY_XY_ORIGIN: 457991.00000 5358218.00000
NATION: US
STATE: MT
NW_QUAD_CORNER_XY: 458345.09800 5358134.13100
NE_QUAD_CORNER_XY: 462973.40600 5358102.05200
SE_QUAD_CORNERY_XY: 462928.11000 5351155.04900
SW_QUAD_CORNER_XY: 458294.14000 5351187.13700
SECONDARY_NW_QUAD_XY: 458343.77700 5357915.18200
SECONDARY_NE_QUAD_XY: 462972.23200 5357883.10100
SECONDARY_SE_QUAD_XY: 462926.93600 5350936.10900
SECONDARY_SW_QUAD_XY: 458292.81900 5350968.19700
RMSE_XY: 1.70000
IMAGE_SOURCE: BLACK AND WHITE FILM
SOURCE_IMAGE_ID: NAPP 9176 065
SOURCE_IMAGE_DATE: 1997 8 30
SOURCE_DEM_DATE: 1965 0 0
AGENCY: WESTERN MAPPING CENTER (WMC)
PRODUCER: ROCKY MOUNTAIN MAPPING CENTER (RMMC)
PRODUCTION_SYSTEM: DV2.6.3 10/9OV2.4 5/95
COMPRESSION: UNDEFINED
STANDARD_VERSION: 1996 12
METADATA_DATE: 1999 2 26
DATA_FILE_SIZE: 40534240
BYTE_COUNT: 5344
