FILENAME: O4811144.SWS.961706.tif
QUADRANGLE_NAME: CENTRAL SCHOOL
QUADRANT: SW
WEST_LONGITUDE: -111 37 30.00000
EAST_LONGITUDE: -111 33 45.00000
NORTH_LATITUDE: 48 18 45.00000
SOUTH_LATITUDE: 48 15 0.00000
PRODUCTION_DATE: 1999 2 24
RASTER_ORDER: LEFT_RIGHT/TOP_BOTTOM
BAND_ORGANIZATION: SINGLE FILE
BAND_CONTENT: BLACK&WHITE
BAND_CONTENT: UNDEFINED
BAND_CONTENT: UNDEFINED
BITS_PER_PIXEL: 8
SAMPLES_AND_LINES: 5356 7588
HORIZONTAL_DATUM: NAD83
HORIZONTAL_COORDINATE_SYSTEM: UTM
COORDINATE_ZONE: 12
HORIZONTAL_UNITS: METERS
HORIZONTAL_RESOLUTION: 1.00000
SECONDARY_HORIZONTAL_DATUM: NAD27
XY_ORIGIN: 453240.00000 5351524.00000
SECONDARY_XY_ORIGIN: 453300.72200 5351306.72400
NATION: US
STATE: MT
NW_QUAD_CORNER_XY: 453660.17500 5351223.00000
NE_QUAD_CORNER_XY: 458294.14000 5351187.13700
SE_QUAD_CORNERY_XY: 458243.23100 5344240.21800
SW_QUAD_CORNER_XY: 453603.61000 5344276.08900
SECONDARY_NW_QUAD_XY: 453658.70700 5351004.06100
SECONDARY_NE_QUAD_XY: 458292.81900 5350968.19700
SECONDARY_SE_QUAD_XY: 458241.91000 5344021.28900
SECONDARY_SW_QUAD_XY: 453602.14200 5344057.16200
RMSE_XY: 0.80000
IMAGE_SOURCE: BLACK AND WHITE FILM
SOURCE_IMAGE_ID: NAPP 9176 086
SOURCE_IMAGE_DATE: 1997 8 30
SOURCE_DEM_DATE: 1965 0 0
AGENCY: WESTERN MAPPING CENTER (WMC)
PRODUCER: ROCKY MOUNTAIN MAPPING CENTER (RMMC)
PRODUCTION_SYSTEM: DV2.6.3 10/9OV2.4 5/95
COMPRESSION: UNDEFINED
STANDARD_VERSION: 1996 12
METADATA_DATE: 1999 2 26
DATA_FILE_SIZE: 40646684
BYTE_COUNT: 5356
