FILENAME: O4811143.NES.1081732.tif
QUADRANGLE_NAME: CONRAD BUTTE
QUADRANT: NE
WEST_LONGITUDE: -111 41 15.00000
EAST_LONGITUDE: -111 37 30.00000
NORTH_LATITUDE: 48 22 30.00000
SOUTH_LATITUDE: 48 18 45.00000
PRODUCTION_DATE: 2000 7 12
RASTER_ORDER: LEFT_RIGHT/TOP_BOTTOM
BAND_ORGANIZATION: SINGLE FILE
BAND_CONTENT: BLACK&WHITE
BAND_CONTENT: UNDEFINED
BAND_CONTENT: UNDEFINED
BITS_PER_PIXEL: 8
SAMPLES_AND_LINES: 5356 7592
HORIZONTAL_DATUM: NAD83
HORIZONTAL_COORDINATE_SYSTEM: UTM
COORDINATE_ZONE: 12
HORIZONTAL_UNITS: METERS
HORIZONTAL_RESOLUTION: 1.00000
SECONDARY_HORIZONTAL_DATUM: NAD27
XY_ORIGIN: 448663.00000 5358511.00000
SECONDARY_XY_ORIGIN: 448723.00000 5358294.00000
NATION: US
STATE: MT
NW_QUAD_CORNER_XY: 449088.50000 5358209.61300
NE_QUAD_CORNER_XY: 453716.79600 5358169.98500
SE_QUAD_CORNERY_XY: 453660.17500 5351223.00000
SW_QUAD_CORNER_XY: 449026.21700 5351262.63800
SECONDARY_NW_QUAD_XY: 449086.88500 5357990.66600
SECONDARY_NE_QUAD_XY: 453715.32800 5357951.03600
SECONDARY_SE_QUAD_XY: 453658.70700 5351004.06100
SECONDARY_SW_QUAD_XY: 449024.60200 5351043.70100
RMSE_XY: 0.80000
IMAGE_SOURCE: BLACK AND WHITE FILM
SOURCE_IMAGE_ID: NAPP 9176 133
SOURCE_IMAGE_DATE: 1997 8 30
SOURCE_DEM_DATE: 2000 7 12
AGENCY: WESTERN MAPPING CENTER (WMC)
PRODUCER: ROCKY MOUNTAIN MAPPING CENTER (RMMC)
PRODUCTION_SYSTEM: DV2.6.3 10/9OV2.4 5/95
COMPRESSION: UNDEFINED
STANDARD_VERSION: 1996 12
METADATA_DATE: 2000 7 12
DATA_FILE_SIZE: 40668108
BYTE_COUNT: 5356
