FILENAME: O4811143.SES.958474.tif
QUADRANGLE_NAME: CONRAD BUTTE
QUADRANT: SE
WEST_LONGITUDE: -111 41 15.00000
EAST_LONGITUDE: -111 37 30.00000
NORTH_LATITUDE: 48 18 45.00000
SOUTH_LATITUDE: 48 15 0.00000
PRODUCTION_DATE: 1999 2 3
RASTER_ORDER: LEFT_RIGHT/TOP_BOTTOM
BAND_ORGANIZATION: SINGLE FILE
BAND_CONTENT: BLACK&WHITE
BAND_CONTENT: UNDEFINED
BAND_CONTENT: UNDEFINED
BITS_PER_PIXEL: 8
SAMPLES_AND_LINES: 5360 7592
HORIZONTAL_DATUM: NAD83
HORIZONTAL_COORDINATE_SYSTEM: UTM
COORDINATE_ZONE: 12
HORIZONTAL_UNITS: METERS
HORIZONTAL_RESOLUTION: 1.00000
SECONDARY_HORIZONTAL_DATUM: NAD27
XY_ORIGIN: 448601.00000 5351564.00000
SECONDARY_XY_ORIGIN: 448661.85300 5351346.70000
NATION: US
STATE: MT
NW_QUAD_CORNER_XY: 449026.21700 5351262.63800
NE_QUAD_CORNER_XY: 453660.17500 5351223.00000
SE_QUAD_CORNERY_XY: 453603.61000 5344276.08900
SW_QUAD_CORNER_XY: 448963.99400 5344315.73700
SECONDARY_NW_QUAD_XY: 449024.60200 5351043.70100
SECONDARY_NE_QUAD_XY: 453658.70700 5351004.06100
SECONDARY_SE_QUAD_XY: 453602.14200 5344057.16200
SECONDARY_SW_QUAD_XY: 448962.38000 5344096.81100
RMSE_XY: 1.30000
IMAGE_SOURCE: BLACK AND WHITE FILM
SOURCE_IMAGE_ID: NAPP 9176 135
SOURCE_IMAGE_DATE: 1997 8 30
SOURCE_DEM_DATE: 1965 0 0
AGENCY: WESTERN MAPPING CENTER (WMC)
PRODUCER: ROCKY MOUNTAIN MAPPING CENTER (RMMC)
PRODUCTION_SYSTEM: DV2.6.3 10/9OV2.4 5/95
COMPRESSION: UNDEFINED
STANDARD_VERSION: 1996 12
METADATA_DATE: 1999 2 4
DATA_FILE_SIZE: 40698480
BYTE_COUNT: 5360
