FILENAME: O4811142.NWS.958469.tif
QUADRANGLE_NAME: LEDGER
QUADRANT: NW
WEST_LONGITUDE: -111 52 30.00000
EAST_LONGITUDE: -111 48 45.00000
NORTH_LATITUDE: 48 22 30.00000
SOUTH_LATITUDE: 48 18 45.00000
PRODUCTION_DATE: 1999 2 3
RASTER_ORDER: LEFT_RIGHT/TOP_BOTTOM
BAND_ORGANIZATION: SINGLE FILE
BAND_CONTENT: BLACK&WHITE
BAND_CONTENT: UNDEFINED
BAND_CONTENT: UNDEFINED
BITS_PER_PIXEL: 8
SAMPLES_AND_LINES: 5372 7602
HORIZONTAL_DATUM: NAD83
HORIZONTAL_COORDINATE_SYSTEM: UTM
COORDINATE_ZONE: 12
HORIZONTAL_UNITS: METERS
HORIZONTAL_RESOLUTION: 1.00000
SECONDARY_HORIZONTAL_DATUM: NAD27
XY_ORIGIN: 434760.00000 5358652.00000
SECONDARY_XY_ORIGIN: 434821.00000 5358435.00000
NATION: US
STATE: MT
NW_QUAD_CORNER_XY: 435203.65800 5358351.14400
NE_QUAD_CORNER_XY: 439831.93000 5358300.19200
SE_QUAD_CORNERY_XY: 439758.32100 5351353.24000
SW_QUAD_CORNER_XY: 435124.38600 5351404.20400
SECONDARY_NW_QUAD_XY: 435201.60300 5358132.20100
SECONDARY_NE_QUAD_XY: 439830.02200 5358081.24800
SECONDARY_SE_QUAD_XY: 439756.41300 5351134.30600
SECONDARY_SW_QUAD_XY: 435122.33100 5351185.27200
RMSE_XY: 1.40000
IMAGE_SOURCE: BLACK AND WHITE FILM
SOURCE_IMAGE_ID: NAPP 9178 046
SOURCE_IMAGE_DATE: 1997 9 4
SOURCE_DEM_DATE: 1965 0 0
AGENCY: WESTERN MAPPING CENTER (WMC)
PRODUCER: ROCKY MOUNTAIN MAPPING CENTER (RMMC)
PRODUCTION_SYSTEM: DV2.6.3 10/9OV2.4 5/95
COMPRESSION: UNDEFINED
STANDARD_VERSION: 1996 12
METADATA_DATE: 1999 2 4
DATA_FILE_SIZE: 40843316
BYTE_COUNT: 5372
