FILENAME: O4811142.SWS.958471.tif
QUADRANGLE_NAME: LEDGER
QUADRANT: SW
WEST_LONGITUDE: -111 52 30.00000
EAST_LONGITUDE: -111 48 45.00000
NORTH_LATITUDE: 48 18 45.00000
SOUTH_LATITUDE: 48 15 0.00000
PRODUCTION_DATE: 1999 2 3
RASTER_ORDER: LEFT_RIGHT/TOP_BOTTOM
BAND_ORGANIZATION: SINGLE FILE
BAND_CONTENT: BLACK&WHITE
BAND_CONTENT: UNDEFINED
BAND_CONTENT: UNDEFINED
BITS_PER_PIXEL: 8
SAMPLES_AND_LINES: 5376 7602
HORIZONTAL_DATUM: NAD83
HORIZONTAL_COORDINATE_SYSTEM: UTM
COORDINATE_ZONE: 12
HORIZONTAL_UNITS: METERS
HORIZONTAL_RESOLUTION: 1.00000
SECONDARY_HORIZONTAL_DATUM: NAD27
XY_ORIGIN: 434681.00000 5351705.00000
SECONDARY_XY_ORIGIN: 434742.19200 5351487.58600
NATION: US
STATE: MT
NW_QUAD_CORNER_XY: 435124.38600 5351404.20400
NE_QUAD_CORNER_XY: 439758.32100 5351353.24000
SE_QUAD_CORNERY_XY: 439684.78500 5344406.36200
SW_QUAD_CORNER_XY: 435045.19200 5344457.33900
SECONDARY_NW_QUAD_XY: 435122.33100 5351185.27200
SECONDARY_NE_QUAD_XY: 439756.41300 5351134.30600
SECONDARY_SE_QUAD_XY: 439682.87700 5344187.43900
SECONDARY_SW_QUAD_XY: 435043.13700 5344238.41800
RMSE_XY: 1.20000
IMAGE_SOURCE: BLACK AND WHITE FILM
SOURCE_IMAGE_ID: NAPP 9178 044
SOURCE_IMAGE_DATE: 1997 9 4
SOURCE_DEM_DATE: 1965 0 0
AGENCY: WESTERN MAPPING CENTER (WMC)
PRODUCER: ROCKY MOUNTAIN MAPPING CENTER (RMMC)
PRODUCTION_SYSTEM: DV2.6.3 10/9OV2.4 5/95
COMPRESSION: UNDEFINED
STANDARD_VERSION: 1996 12
METADATA_DATE: 1999 2 4
DATA_FILE_SIZE: 40873728
BYTE_COUNT: 5376
