FILENAME: O4811140.NES.1115463.tif
QUADRANGLE_NAME: SAGEBRUSH COULEE
QUADRANT: NE
WEST_LONGITUDE: -111 3 45.00000
EAST_LONGITUDE: -111 0 0.00000
NORTH_LATITUDE: 48 30 0.00000
SOUTH_LATITUDE: 48 26 15.00000
PRODUCTION_DATE: 2000 10 18
RASTER_ORDER: LEFT_RIGHT/TOP_BOTTOM
BAND_ORGANIZATION: SINGLE FILE
BAND_CONTENT: BLACK&WHITE
BAND_CONTENT: UNDEFINED
BAND_CONTENT: UNDEFINED
BITS_PER_PIXEL: 8
SAMPLES_AND_LINES: 5285 7554
HORIZONTAL_DATUM: NAD83
HORIZONTAL_COORDINATE_SYSTEM: UTM
COORDINATE_ZONE: 12
HORIZONTAL_UNITS: METERS
HORIZONTAL_RESOLUTION: 1.00000
SECONDARY_HORIZONTAL_DATUM: NAD27
XY_ORIGIN: 495016.00000 5372178.00000
SECONDARY_XY_ORIGIN: 495075.69400 5371960.32000
NATION: US
NATION: "SCIENCE
STATE: MT
NW_QUAD_CORNER_XY: 495383.00900 5371877.46200
NE_QUAD_CORNER_XY: 500000.00000 5371875.57600
SE_QUAD_CORNERY_XY: 500000.00000 5364928.39200
SW_QUAD_CORNER_XY: 495377.33600 5364930.27800
SECONDARY_NW_QUAD_XY: 495382.86300 5371658.49000
SECONDARY_NE_QUAD_XY: 500000.00000 5371656.60400
SECONDARY_SE_QUAD_XY: 500000.00000 5364709.42800
SECONDARY_SW_QUAD_XY: 495377.19000 5364711.31400
RMSE_XY: 1.10000
IMAGE_SOURCE: BLACK AND WHITE FILM
SOURCE_IMAGE_ID: NAPP 9175 012
SOURCE_IMAGE_DATE: 1997 08 30
SOURCE_DEM_DATE: 1969 00 00
AGENCY: WESTERN MAPPING CENTER (WMC)
PRODUCER: UNDEFINED
PRODUCTION_SYSTEM: GIS/MAGIC
COMPRESSION: UNDEFINED
STANDARD_VERSION: 1996 12
METADATA_DATE: 2000 11 29
DATA_FILE_SIZE: 39928175
BYTE_COUNT: 5285
