FILENAME: O4811139.SWS.961702.tif
QUADRANGLE_NAME: LOTHAIR
QUADRANT: SW
WEST_LONGITUDE: -111 15 0.00000
EAST_LONGITUDE: -111 11 15.00000
NORTH_LATITUDE: 48 26 15.00000
SOUTH_LATITUDE: 48 22 30.00000
PRODUCTION_DATE: 1999 2 26
RASTER_ORDER: LEFT_RIGHT/TOP_BOTTOM
BAND_ORGANIZATION: SINGLE FILE
BAND_CONTENT: BLACK&WHITE
BAND_CONTENT: UNDEFINED
BAND_CONTENT: UNDEFINED
BITS_PER_PIXEL: 8
SAMPLES_AND_LINES: 5308 7565
HORIZONTAL_DATUM: NAD83
HORIZONTAL_COORDINATE_SYSTEM: UTM
COORDINATE_ZONE: 12
HORIZONTAL_UNITS: METERS
HORIZONTAL_RESOLUTION: 1.00000
SECONDARY_HORIZONTAL_DATUM: NAD27
XY_ORIGIN: 481125.00000 5365260.00000
SECONDARY_XY_ORIGIN: 481184.00000 5365043.00000
NATION: US
STATE: MT
NW_QUAD_CORNER_XY: 481509.35200 5364958.57600
NE_QUAD_CORNER_XY: 486132.01200 5364945.37100
SE_QUAD_CORNERY_XY: 486115.01000 5357998.26600
SW_QUAD_CORNER_XY: 481486.68200 5358011.47500
SECONDARY_NW_QUAD_XY: 481508.76500 5364739.61400
SECONDARY_NE_QUAD_XY: 486131.57200 5364726.40800
SECONDARY_SE_QUAD_XY: 486114.56900 5357779.31200
SECONDARY_SW_QUAD_XY: 481486.09500 5357792.52200
RMSE_XY: 1.70000
IMAGE_SOURCE: BLACK AND WHITE FILM
SOURCE_IMAGE_ID: NAPP 9170 024
SOURCE_IMAGE_DATE: 1997 8 22
SOURCE_DEM_DATE: 1969 0 0
AGENCY: WESTERN MAPPING CENTER (WMC)
PRODUCER: ROCKY MOUNTAIN MAPPING CENTER (RMMC)
PRODUCTION_SYSTEM: DV2.6.3 10/9OV2.4 5/95
COMPRESSION: UNDEFINED
STANDARD_VERSION: 1996 12
METADATA_DATE: 1999 2 26
DATA_FILE_SIZE: 40160328
BYTE_COUNT: 5308
