FILENAME: O4811137.NWS.45350.tif
QUADRANGLE_NAME: DEVON
QUADRANT: NW
WEST_LONGITUDE: -111 30 0.00000
EAST_LONGITUDE: -111 26 15.00000
NORTH_LATITUDE: 48 30 0.00000
SOUTH_LATITUDE: 48 26 15.00000
PRODUCTION_DATE: 1995 6 29
RASTER_ORDER: LEFT_RIGHT/TOP_BOTTOM
BAND_ORGANIZATION: SINGLE FILE
BAND_CONTENT: BLACK&WHITE
BAND_CONTENT: UNDEFINED
BAND_CONTENT: UNDEFINED
BITS_PER_PIXEL: 8
SAMPLES_AND_LINES: 5272 7586
HORIZONTAL_DATUM: NAD83
HORIZONTAL_COORDINATE_SYSTEM: UTM
COORDINATE_ZONE: 12
HORIZONTAL_UNITS: METERS
HORIZONTAL_RESOLUTION: 1.00000
SECONDARY_HORIZONTAL_DATUM: NAD27
XY_ORIGIN: 462714.50000 5372300.50000
SECONDARY_XY_ORIGIN: 462774.97400 5372082.61700
NATION: US
STATE: MT
NW_QUAD_CORNER_XY: 463064.13100 5371996.28200
NE_QUAD_CORNER_XY: 467681.10300 5371967.99200
SE_QUAD_CORNERY_XY: 467641.39200 5365020.83100
SW_QUAD_CORNER_XY: 463018.74600 5365049.12900
SECONDARY_NW_QUAD_XY: 463062.95700 5371777.31400
SECONDARY_NE_QUAD_XY: 467680.07600 5371749.02200
SECONDARY_SE_QUAD_XY: 467640.36400 5364801.87000
SECONDARY_SW_QUAD_XY: 463017.57200 5364830.16900
RMSE_XY: 1.60000
IMAGE_SOURCE: BLACK AND WHITE FILM
SOURCE_IMAGE_ID: NAPP 3887 188
SOURCE_IMAGE_DATE: 1991 7 12
SOURCE_DEM_DATE: 1995 6 29
AGENCY: WESTERN MAPPING CENTER (WMC)
PRODUCER: Woolpert Consultants
PRODUCTION_SYSTEM: INTERGRAPH ISPM,ISIR
COMPRESSION: UNDEFINED
STANDARD_VERSION: 1996 12
METADATA_DATE: 1997 6 15
DATA_FILE_SIZE: 39998664
BYTE_COUNT: 5272
