FILENAME: O4811136.NES.45480.tif
QUADRANGLE_NAME: SOUTH DEVON SCHOOL
QUADRANT: NE
WEST_LONGITUDE: -111 33 45.00000
EAST_LONGITUDE: -111 30 0.00000
NORTH_LATITUDE: 48 30 0.00000
SOUTH_LATITUDE: 48 26 15.00000
PRODUCTION_DATE: 1995 6 29
RASTER_ORDER: LEFT_RIGHT/TOP_BOTTOM
BAND_ORGANIZATION: SINGLE FILE
BAND_CONTENT: BLACK&WHITE
BAND_CONTENT: UNDEFINED
BAND_CONTENT: UNDEFINED
BITS_PER_PIXEL: 8
SAMPLES_AND_LINES: 5278 7590
HORIZONTAL_DATUM: NAD83
HORIZONTAL_COORDINATE_SYSTEM: UTM
COORDINATE_ZONE: 12
HORIZONTAL_UNITS: METERS
HORIZONTAL_RESOLUTION: 1.00000
SECONDARY_HORIZONTAL_DATUM: NAD27
XY_ORIGIN: 458091.50000 5372332.50000
SECONDARY_XY_ORIGIN: 458152.12400 5372114.57000
NATION: US
STATE: MT
NW_QUAD_CORNER_XY: 458447.16500 5372028.34500
NE_QUAD_CORNER_XY: 463064.13100 5371996.28200
SE_QUAD_CORNERY_XY: 463018.74600 5365049.12900
SW_QUAD_CORNER_XY: 458396.10600 5365081.20000
SECONDARY_NW_QUAD_XY: 458445.84400 5371809.37700
SECONDARY_NE_QUAD_XY: 463062.95700 5371777.31400
SECONDARY_SE_QUAD_XY: 463017.57200 5364830.16900
SECONDARY_SW_QUAD_XY: 458394.78500 5364862.24100
RMSE_XY: 1.70000
IMAGE_SOURCE: BLACK AND WHITE FILM
SOURCE_IMAGE_ID: NAPP 3889 100
SOURCE_IMAGE_DATE: 1991 7 12
SOURCE_DEM_DATE: 1995 6 29
AGENCY: WESTERN MAPPING CENTER (WMC)
PRODUCER: Woolpert Consultants
PRODUCTION_SYSTEM: INTERGRAPH ISPM,ISIR
COMPRESSION: UNDEFINED
STANDARD_VERSION: 1996 12
METADATA_DATE: 1997 6 15
DATA_FILE_SIZE: 40065298
BYTE_COUNT: 5278
