FILENAME: O4811134.NWS.45757.tif
QUADRANGLE_NAME: NAISMITH
QUADRANT: NW
WEST_LONGITUDE: -111 52 30.00000
EAST_LONGITUDE: -111 48 45.00000
NORTH_LATITUDE: 48 30 0.00000
SOUTH_LATITUDE: 48 26 15.00000
PRODUCTION_DATE: 1995 6 29
RASTER_ORDER: LEFT_RIGHT/TOP_BOTTOM
BAND_ORGANIZATION: SINGLE FILE
BAND_CONTENT: BLACK&WHITE
BAND_CONTENT: UNDEFINED
BAND_CONTENT: UNDEFINED
BITS_PER_PIXEL: 8
SAMPLES_AND_LINES: 5306 7608
HORIZONTAL_DATUM: NAD83
HORIZONTAL_COORDINATE_SYSTEM: UTM
COORDINATE_ZONE: 12
HORIZONTAL_UNITS: METERS
HORIZONTAL_RESOLUTION: 1.00000
SECONDARY_HORIZONTAL_DATUM: NAD27
XY_ORIGIN: 434978.50000 5372549.50000
SECONDARY_XY_ORIGIN: 435039.73300 5372331.49000
NATION: US
STATE: MT
NW_QUAD_CORNER_XY: 435362.43400 5372245.24500
NE_QUAD_CORNER_XY: 439979.36400 5372194.32000
SE_QUAD_CORNERY_XY: 439905.61100 5365247.21900
SW_QUAD_CORNER_XY: 435283.00700 5365298.15700
SECONDARY_NW_QUAD_XY: 435360.37900 5372026.28400
SECONDARY_NE_QUAD_XY: 439977.45600 5371975.35800
SECONDARY_SE_QUAD_XY: 439903.70300 5365028.26500
SECONDARY_SW_QUAD_XY: 435280.95200 5365079.20500
RMSE_XY: 1.80000
IMAGE_SOURCE: BLACK AND WHITE FILM
SOURCE_IMAGE_ID: NAPP 3890 088
SOURCE_IMAGE_DATE: 1991 7 20
SOURCE_DEM_DATE: 1995 6 29
AGENCY: WESTERN MAPPING CENTER (WMC)
PRODUCER: Woolpert Consultants
PRODUCTION_SYSTEM: INTERGRAPH ISPM,ISIR
COMPRESSION: UNDEFINED
STANDARD_VERSION: 1996 12
METADATA_DATE: 1997 6 15
DATA_FILE_SIZE: 40373354
BYTE_COUNT: 5306
