FILENAME: O4811133.NWS.45918.tif
QUADRANGLE_NAME: LEDGER NW
QUADRANT: NW
WEST_LONGITUDE: -112 0 0.00000
EAST_LONGITUDE: -111 56 15.00000
NORTH_LATITUDE: 48 30 0.00000
SOUTH_LATITUDE: 48 26 15.00000
PRODUCTION_DATE: 1995 6 28
RASTER_ORDER: LEFT_RIGHT/TOP_BOTTOM
BAND_ORGANIZATION: SINGLE FILE
BAND_CONTENT: BLACK&WHITE
BAND_CONTENT: UNDEFINED
BAND_CONTENT: UNDEFINED
BITS_PER_PIXEL: 8
SAMPLES_AND_LINES: 5318 7616
HORIZONTAL_DATUM: NAD83
HORIZONTAL_COORDINATE_SYSTEM: UTM
COORDINATE_ZONE: 12
HORIZONTAL_UNITS: METERS
HORIZONTAL_RESOLUTION: 1.00000
SECONDARY_HORIZONTAL_DATUM: NAD27
XY_ORIGIN: 425733.50000 5372662.50000
SECONDARY_XY_ORIGIN: 425794.89600 5372444.54200
NATION: US
STATE: MT
NW_QUAD_CORNER_XY: 426128.60200 5372358.41400
NE_QUAD_CORNER_XY: 430745.51300 5372299.94300
SE_QUAD_CORNERY_XY: 430660.41200 5365352.87000
SW_QUAD_CORNER_XY: 426037.82700 5365411.35600
SECONDARY_NW_QUAD_XY: 426126.25300 5372139.45700
SECONDARY_NE_QUAD_XY: 430743.31100 5372080.98400
SECONDARY_SE_QUAD_XY: 430658.21000 5365133.91900
SECONDARY_SW_QUAD_XY: 426035.47800 5365192.40700
RMSE_XY: 1.20000
IMAGE_SOURCE: BLACK AND WHITE FILM
SOURCE_IMAGE_ID: NAPP 3890 020
SOURCE_IMAGE_DATE: 1991 7 20
SOURCE_DEM_DATE: 1995 6 28
AGENCY: WESTERN MAPPING CENTER (WMC)
PRODUCER: Woolpert Consultants
PRODUCTION_SYSTEM: INTERGRAPH ISPM,ISIR
COMPRESSION: UNDEFINED
STANDARD_VERSION: 1996 12
METADATA_DATE: 1997 6 15
DATA_FILE_SIZE: 40507206
BYTE_COUNT: 5318
