FILENAME: O4811132.NWS.1115460.tif
QUADRANGLE_NAME: TIBER
QUADRANT: NW
WEST_LONGITUDE: -111 7 30.00000
EAST_LONGITUDE: -111 3 45.00000
NORTH_LATITUDE: 48 37 30.00000
SOUTH_LATITUDE: 48 33 45.00000
PRODUCTION_DATE: 2000 11 7
RASTER_ORDER: LEFT_RIGHT/TOP_BOTTOM
BAND_ORGANIZATION: SINGLE FILE
BAND_CONTENT: BLACK&WHITE
BAND_CONTENT: UNDEFINED
BAND_CONTENT: UNDEFINED
BITS_PER_PIXEL: 8
SAMPLES_AND_LINES: 5280 7557
HORIZONTAL_DATUM: NAD83
HORIZONTAL_COORDINATE_SYSTEM: UTM
COORDINATE_ZONE: 12
HORIZONTAL_UNITS: METERS
HORIZONTAL_RESOLUTION: 1.00000
SECONDARY_HORIZONTAL_DATUM: NAD27
XY_ORIGIN: 490416.00000 5386078.00000
SECONDARY_XY_ORIGIN: 490475.66200 5385859.86700
NATION: US
NATION: "SCIENCE
STATE: MT
NW_QUAD_CORNER_XY: 490788.74500 5385777.71300
NE_QUAD_CORNER_XY: 495394.37200 5385772.05800
SE_QUAD_CORNERY_XY: 495388.68800 5378824.72200
SW_QUAD_CORNER_XY: 490777.37700 5378830.37900
SECONDARY_NW_QUAD_XY: 490788.45100 5385558.72600
SECONDARY_NE_QUAD_XY: 495394.22500 5385553.07100
SECONDARY_SE_QUAD_XY: 495388.54100 5378605.74200
SECONDARY_SW_QUAD_XY: 490777.08300 5378611.39900
RMSE_XY: 0.60000
IMAGE_SOURCE: BLACK AND WHITE FILM
SOURCE_IMAGE_ID: NAPP 9175 019
SOURCE_IMAGE_DATE: 1997 08 30
SOURCE_DEM_DATE: 1961 00 00
AGENCY: WESTERN MAPPING CENTER (WMC)
PRODUCER: UNDEFINED
PRODUCTION_SYSTEM: GIS/MAGIC
COMPRESSION: UNDEFINED
STANDARD_VERSION: 1996 12
METADATA_DATE: 2000 11 29
DATA_FILE_SIZE: 39906240
BYTE_COUNT: 5280
