FILENAME: O4811131.SES.1115453.tif
QUADRANGLE_NAME: NORTH LOTHAIR SCHOOL
QUADRANT: SE
WEST_LONGITUDE: -111 11 15.00000
EAST_LONGITUDE: -111 7 30.00000
NORTH_LATITUDE: 48 33 45.00000
SOUTH_LATITUDE: 48 30 0.00000
PRODUCTION_DATE: 2000 10 18
RASTER_ORDER: LEFT_RIGHT/TOP_BOTTOM
BAND_ORGANIZATION: SINGLE FILE
BAND_CONTENT: BLACK&WHITE
BAND_CONTENT: UNDEFINED
BAND_CONTENT: UNDEFINED
BITS_PER_PIXEL: 8
SAMPLES_AND_LINES: 5292 7561
HORIZONTAL_DATUM: NAD83
HORIZONTAL_COORDINATE_SYSTEM: UTM
COORDINATE_ZONE: 12
HORIZONTAL_UNITS: METERS
HORIZONTAL_RESOLUTION: 1.00000
SECONDARY_HORIZONTAL_DATUM: NAD27
XY_ORIGIN: 485787.00000 5379140.00000
SECONDARY_XY_ORIGIN: 485846.81400 5378922.07900
NATION: US
NATION: "SCIENCE
STATE: MT
NW_QUAD_CORNER_XY: 486166.06700 5378839.80600
NE_QUAD_CORNER_XY: 490777.37700 5378830.37900
SE_QUAD_CORNERY_XY: 490766.02000 5371883.12000
SW_QUAD_CORNER_XY: 486149.03100 5371892.55000
SECONDARY_NW_QUAD_XY: 486165.62600 5378620.82700
SECONDARY_NE_QUAD_XY: 490777.08300 5378611.39900
SECONDARY_SE_QUAD_XY: 490765.72600 5371664.14800
SECONDARY_SW_QUAD_XY: 486148.59100 5371673.57800
RMSE_XY: 2.10000
IMAGE_SOURCE: BLACK AND WHITE FILM
SOURCE_IMAGE_ID: NAPP 9170 061
SOURCE_IMAGE_DATE: 1997 08 22
SOURCE_DEM_DATE: 1977 09 00
AGENCY: WESTERN MAPPING CENTER (WMC)
PRODUCER: UNDEFINED
PRODUCTION_SYSTEM: GIS/MAGIC
COMPRESSION: UNDEFINED
STANDARD_VERSION: 1996 12
METADATA_DATE: 2000 11 07
DATA_FILE_SIZE: 40018104
BYTE_COUNT: 5292
