FILENAME: O4811130.NWS.45239.tif
QUADRANGLE_NAME: MCCARTERS LAKE SE
QUADRANT: NW
WEST_LONGITUDE: -111 22 30.00000
EAST_LONGITUDE: -111 18 45.00000
NORTH_LATITUDE: 48 37 30.00000
SOUTH_LATITUDE: 48 33 45.00000
PRODUCTION_DATE: 1995 6 29
RASTER_ORDER: LEFT_RIGHT/TOP_BOTTOM
BAND_ORGANIZATION: SINGLE FILE
BAND_CONTENT: BLACK&WHITE
BAND_CONTENT: UNDEFINED
BAND_CONTENT: UNDEFINED
BITS_PER_PIXEL: 8
SAMPLES_AND_LINES: 5250 7578
HORIZONTAL_DATUM: NAD83
HORIZONTAL_COORDINATE_SYSTEM: UTM
COORDINATE_ZONE: 12
HORIZONTAL_UNITS: METERS
HORIZONTAL_RESOLUTION: 1.00000
SECONDARY_HORIZONTAL_DATUM: NAD27
XY_ORIGIN: 472027.50000 5386142.50000
SECONDARY_XY_ORIGIN: 472087.55800 5385924.09700
NATION: US
STATE: MT
NW_QUAD_CORNER_XY: 472366.25600 5385838.03300
NE_QUAD_CORNER_XY: 476971.87400 5385817.29800
SE_QUAD_CORNERY_XY: 476943.45400 5378869.97500
SW_QUAD_CORNER_XY: 472332.15200 5378890.71600
SECONDARY_NW_QUAD_XY: 472365.37600 5385619.04800
SECONDARY_NE_QUAD_XY: 476971.14000 5385598.31300
SECONDARY_SE_QUAD_XY: 476942.72000 5378650.99600
SECONDARY_SW_QUAD_XY: 472331.27100 5378671.73800
RMSE_XY: 1.60000
IMAGE_SOURCE: BLACK AND WHITE FILM
SOURCE_IMAGE_ID: NAPP 3887 142
SOURCE_IMAGE_DATE: 1991 7 12
SOURCE_DEM_DATE: 1995 6 29
AGENCY: WESTERN MAPPING CENTER (WMC)
PRODUCER: Woolpert Consultants
PRODUCTION_SYSTEM: INTERGRAPH ISPM,ISIR
COMPRESSION: UNDEFINED
STANDARD_VERSION: 1996 12
METADATA_DATE: 1997 6 15
DATA_FILE_SIZE: 39789750
BYTE_COUNT: 5250
