FILENAME: O4811129.SWS.45348.tif
QUADRANGLE_NAME: MCCARTERS LAKE
QUADRANT: SW
WEST_LONGITUDE: -111 30 0.00000
EAST_LONGITUDE: -111 26 15.00000
NORTH_LATITUDE: 48 33 45.00000
SOUTH_LATITUDE: 48 30 0.00000
PRODUCTION_DATE: 1995 6 29
RASTER_ORDER: LEFT_RIGHT/TOP_BOTTOM
BAND_ORGANIZATION: SINGLE FILE
BAND_CONTENT: BLACK&WHITE
BAND_CONTENT: UNDEFINED
BAND_CONTENT: UNDEFINED
BITS_PER_PIXEL: 8
SAMPLES_AND_LINES: 5268 7586
HORIZONTAL_DATUM: NAD83
HORIZONTAL_COORDINATE_SYSTEM: UTM
COORDINATE_ZONE: 12
HORIZONTAL_UNITS: METERS
HORIZONTAL_RESOLUTION: 1.00000
SECONDARY_HORIZONTAL_DATUM: NAD27
XY_ORIGIN: 462759.50000 5379248.50000
SECONDARY_XY_ORIGIN: 462819.88300 5379030.24400
NATION: US
STATE: MT
NW_QUAD_CORNER_XY: 463109.56100 5378943.51000
NE_QUAD_CORNER_XY: 467720.85400 5378915.22700
SE_QUAD_CORNERY_XY: 467681.10300 5371967.99200
SW_QUAD_CORNER_XY: 463064.13100 5371996.28200
SECONDARY_NW_QUAD_XY: 463108.38600 5378724.53400
SECONDARY_NE_QUAD_XY: 467719.82600 5378696.25000
SECONDARY_SE_QUAD_XY: 467680.07600 5371749.02200
SECONDARY_SW_QUAD_XY: 463062.95700 5371777.31400
RMSE_XY: 2.00000
IMAGE_SOURCE: BLACK AND WHITE FILM
SOURCE_IMAGE_ID: NAPP 3887 190
SOURCE_IMAGE_DATE: 1991 7 12
SOURCE_DEM_DATE: 1995 6 29
AGENCY: WESTERN MAPPING CENTER (WMC)
PRODUCER: Woolpert Consultants
PRODUCTION_SYSTEM: INTERGRAPH ISPM,ISIR
COMPRESSION: UNDEFINED
STANDARD_VERSION: 1996 12
METADATA_DATE: 1997 6 15
DATA_FILE_SIZE: 39968316
BYTE_COUNT: 5268
