FILENAME: O4811127.SES.45602.tif
QUADRANGLE_NAME: ANTELOPE COULEE SW
QUADRANT: SE
WEST_LONGITUDE: -111 41 15.00000
EAST_LONGITUDE: -111 37 30.00000
NORTH_LATITUDE: 48 33 45.00000
SOUTH_LATITUDE: 48 30 0.00000
PRODUCTION_DATE: 1995 6 29
RASTER_ORDER: LEFT_RIGHT/TOP_BOTTOM
BAND_ORGANIZATION: SINGLE FILE
BAND_CONTENT: BLACK&WHITE
BAND_CONTENT: UNDEFINED
BAND_CONTENT: UNDEFINED
BITS_PER_PIXEL: 8
SAMPLES_AND_LINES: 5284 7598
HORIZONTAL_DATUM: NAD83
HORIZONTAL_COORDINATE_SYSTEM: UTM
COORDINATE_ZONE: 12
HORIZONTAL_UNITS: METERS
HORIZONTAL_RESOLUTION: 1.00000
SECONDARY_HORIZONTAL_DATUM: NAD27
XY_ORIGIN: 448908.50000 5379355.50000
SECONDARY_XY_ORIGIN: 448969.51300 5379137.07800
NATION: US
STATE: MT
NW_QUAD_CORNER_XY: 449275.71600 5379050.98700
NE_QUAD_CORNER_XY: 453886.99100 5379011.39000
SE_QUAD_CORNERY_XY: 453830.20400 5372064.18000
SW_QUAD_CORNER_XY: 449213.25000 5372103.78800
SECONDARY_NW_QUAD_XY: 449274.10200 5378832.01400
SECONDARY_NE_QUAD_XY: 453885.52300 5378792.41600
SECONDARY_SE_QUAD_XY: 453828.73600 5371845.21400
SECONDARY_SW_QUAD_XY: 449211.63500 5371884.82200
RMSE_XY: 1.50000
IMAGE_SOURCE: BLACK AND WHITE FILM
SOURCE_IMAGE_ID: NAPP 3889 166
SOURCE_IMAGE_DATE: 1991 7 12
SOURCE_DEM_DATE: 1995 6 29
AGENCY: WESTERN MAPPING CENTER (WMC)
PRODUCER: Woolpert Consultants
PRODUCTION_SYSTEM: INTERGRAPH ISPM,ISIR
COMPRESSION: UNDEFINED
STANDARD_VERSION: 1996 12
METADATA_DATE: 1997 6 15
DATA_FILE_SIZE: 40153116
BYTE_COUNT: 5284
