FILENAME: O4811124.NWS.1115476.tif
QUADRANGLE_NAME: LAKEY RANCH
QUADRANT: NW
WEST_LONGITUDE: -111 7 30.00000
EAST_LONGITUDE: -111 3 45.00000
NORTH_LATITUDE: 48 45 0.00000
SOUTH_LATITUDE: 48 41 15.00000
PRODUCTION_DATE: 2000 10 17
RASTER_ORDER: LEFT_RIGHT/TOP_BOTTOM
BAND_ORGANIZATION: SINGLE FILE
BAND_CONTENT: BLACK&WHITE
BAND_CONTENT: UNDEFINED
BAND_CONTENT: UNDEFINED
BITS_PER_PIXEL: 8
SAMPLES_AND_LINES: 5268 7557
HORIZONTAL_DATUM: NAD83
HORIZONTAL_COORDINATE_SYSTEM: UTM
COORDINATE_ZONE: 12
HORIZONTAL_UNITS: METERS
HORIZONTAL_RESOLUTION: 1.00000
SECONDARY_HORIZONTAL_DATUM: NAD27
XY_ORIGIN: 490439.00000 5399973.00000
SECONDARY_XY_ORIGIN: 490498.54000 5399754.41800
NATION: US
NATION: "SCIENCE
STATE: MT
NW_QUAD_CORNER_XY: 490811.51400 5399672.60800
NE_QUAD_CORNER_XY: 495405.75700 5399666.95700
SE_QUAD_CORNERY_XY: 495400.06200 5392719.46900
SW_QUAD_CORNER_XY: 490800.12400 5392725.12300
SECONDARY_NW_QUAD_XY: 490811.22100 5399453.61000
SECONDARY_NE_QUAD_XY: 495405.61000 5399447.95800
SECONDARY_SE_QUAD_XY: 495399.91500 5392500.47600
SECONDARY_SW_QUAD_XY: 490799.83000 5392506.13000
RMSE_XY: 1.20000
IMAGE_SOURCE: BLACK AND WHITE FILM
SOURCE_IMAGE_ID: NAPP 9175 023
SOURCE_IMAGE_DATE: 1997 08 30
SOURCE_DEM_DATE: 1961 00 00
AGENCY: WESTERN MAPPING CENTER (WMC)
PRODUCER: UNDEFINED
PRODUCTION_SYSTEM: GIS/MAGIC
COMPRESSION: UNDEFINED
STANDARD_VERSION: 1996 12
METADATA_DATE: 2000 11 29
DATA_FILE_SIZE: 39815544
BYTE_COUNT: 5268
