FILENAME: O4811123.NES.1115447.tif
QUADRANGLE_NAME: BLAIR RANCH
QUADRANT: NE
WEST_LONGITUDE: -111 11 15.00000
EAST_LONGITUDE: -111 7 30.00000
NORTH_LATITUDE: 48 45 0.00000
SOUTH_LATITUDE: 48 41 15.00000
PRODUCTION_DATE: 2000 10 17
RASTER_ORDER: LEFT_RIGHT/TOP_BOTTOM
BAND_ORGANIZATION: SINGLE FILE
BAND_CONTENT: BLACK&WHITE
BAND_CONTENT: UNDEFINED
BAND_CONTENT: UNDEFINED
BITS_PER_PIXEL: 8
SAMPLES_AND_LINES: 5274 7561
HORIZONTAL_DATUM: NAD83
HORIZONTAL_COORDINATE_SYSTEM: UTM
COORDINATE_ZONE: 12
HORIZONTAL_UNITS: METERS
HORIZONTAL_RESOLUTION: 1.00000
SECONDARY_HORIZONTAL_DATUM: NAD27
XY_ORIGIN: 485839.00000 5399983.00000
SECONDARY_XY_ORIGIN: 485898.61500 5399764.39000
NATION: US
NATION: "SCIENCE
STATE: MT
NW_QUAD_CORNER_XY: 486217.27300 5399682.02800
NE_QUAD_CORNER_XY: 490811.51400 5399672.60800
SE_QUAD_CORNERY_XY: 490800.12400 5392725.12300
SW_QUAD_CORNER_XY: 486200.18800 5392734.54500
SECONDARY_NW_QUAD_XY: 486216.83300 5399463.03100
SECONDARY_NE_QUAD_XY: 490811.22100 5399453.61000
SECONDARY_SE_QUAD_XY: 490799.83000 5392506.13000
SECONDARY_SW_QUAD_XY: 486199.74700 5392515.55300
RMSE_XY: 1.70000
IMAGE_SOURCE: BLACK AND WHITE FILM
SOURCE_IMAGE_ID: NAPP 9170 055
SOURCE_IMAGE_DATE: 1997 08 22
SOURCE_DEM_DATE: 1977 00 00
AGENCY: WESTERN MAPPING CENTER (WMC)
PRODUCER: UNDEFINED
PRODUCTION_SYSTEM: GIS/MAGIC
COMPRESSION: UNDEFINED
STANDARD_VERSION: 1996 12
METADATA_DATE: 2000 11 07
DATA_FILE_SIZE: 39881988
BYTE_COUNT: 5274
