FILENAME: O4811123.SES.1115449.tif
QUADRANGLE_NAME: BLAIR RANCH
QUADRANT: SE
WEST_LONGITUDE: -111 11 15.00000
EAST_LONGITUDE: -111 7 30.00000
NORTH_LATITUDE: 48 41 15.00000
SOUTH_LATITUDE: 48 37 30.00000
PRODUCTION_DATE: 2000 10 18
RASTER_ORDER: LEFT_RIGHT/TOP_BOTTOM
BAND_ORGANIZATION: SINGLE FILE
BAND_CONTENT: BLACK&WHITE
BAND_CONTENT: UNDEFINED
BAND_CONTENT: UNDEFINED
BITS_PER_PIXEL: 8
SAMPLES_AND_LINES: 5281 7561
HORIZONTAL_DATUM: NAD83
HORIZONTAL_COORDINATE_SYSTEM: UTM
COORDINATE_ZONE: 12
HORIZONTAL_UNITS: METERS
HORIZONTAL_RESOLUTION: 1.00000
SECONDARY_HORIZONTAL_DATUM: NAD27
XY_ORIGIN: 485821.00000 5393035.00000
SECONDARY_XY_ORIGIN: 485880.68100 5392816.61900
NATION: US
NATION: "SCIENCE
STATE: MT
NW_QUAD_CORNER_XY: 486200.18800 5392734.54500
NE_QUAD_CORNER_XY: 490800.12400 5392725.12300
SE_QUAD_CORNERY_XY: 490788.74500 5385777.71300
SW_QUAD_CORNER_XY: 486183.11900 5385787.13800
SECONDARY_NW_QUAD_XY: 486199.74700 5392515.55300
SECONDARY_NE_QUAD_XY: 490799.83000 5392506.13000
SECONDARY_SE_QUAD_XY: 490788.45100 5385558.72600
SECONDARY_SW_QUAD_XY: 486182.67900 5385568.15100
RMSE_XY: 2.60000
IMAGE_SOURCE: BLACK AND WHITE FILM
SOURCE_IMAGE_ID: NAPP 9170 057
SOURCE_IMAGE_DATE: 1997 08 22
SOURCE_DEM_DATE: 1977 00 00
AGENCY: WESTERN MAPPING CENTER (WMC)
PRODUCER: UNDEFINED
PRODUCTION_SYSTEM: GIS/MAGIC
COMPRESSION: UNDEFINED
STANDARD_VERSION: 1996 12
METADATA_DATE: 2000 11 07
DATA_FILE_SIZE: 39934922
BYTE_COUNT: 5281
