FILENAME: O4811120.SWS.45475.tif
QUADRANGLE_NAME: JOHANNSON COULEE
QUADRANT: SW
WEST_LONGITUDE: -111 37 30.00000
EAST_LONGITUDE: -111 33 45.00000
NORTH_LATITUDE: 48 41 15.00000
SOUTH_LATITUDE: 48 37 30.00000
PRODUCTION_DATE: 1995 6 28
RASTER_ORDER: LEFT_RIGHT/TOP_BOTTOM
BAND_ORGANIZATION: SINGLE FILE
BAND_CONTENT: BLACK&WHITE
BAND_CONTENT: UNDEFINED
BAND_CONTENT: UNDEFINED
BITS_PER_PIXEL: 8
SAMPLES_AND_LINES: 5268 7594
HORIZONTAL_DATUM: NAD83
HORIZONTAL_COORDINATE_SYSTEM: UTM
COORDINATE_ZONE: 12
HORIZONTAL_UNITS: METERS
HORIZONTAL_RESOLUTION: 1.00000
SECONDARY_HORIZONTAL_DATUM: NAD27
XY_ORIGIN: 453639.50000 5393210.50000
SECONDARY_XY_ORIGIN: 453700.35900 5392991.35600
NATION: US
STATE: MT
NW_QUAD_CORNER_XY: 454000.73200 5392906.03500
NE_QUAD_CORNER_XY: 458600.63900 5392870.22900
SE_QUAD_CORNERY_XY: 458549.43100 5385922.85900
SW_QUAD_CORNER_XY: 453943.83400 5385958.67500
SECONDARY_NW_QUAD_XY: 453999.26400 5392687.04800
SECONDARY_NE_QUAD_XY: 458599.31700 5392651.24100
SECONDARY_SE_QUAD_XY: 458548.11000 5385703.87700
SECONDARY_SW_QUAD_XY: 453942.36600 5385739.69400
RMSE_XY: 1.70000
IMAGE_SOURCE: BLACK AND WHITE FILM
SOURCE_IMAGE_ID: NAPP 3889 079
SOURCE_IMAGE_DATE: 1991 7 12
SOURCE_DEM_DATE: 1995 6 28
AGENCY: WESTERN MAPPING CENTER (WMC)
PRODUCER: Woolpert Consultants
PRODUCTION_SYSTEM: INTERGRAPH ISPM,ISIR
COMPRESSION: UNDEFINED
STANDARD_VERSION: 1996 12
METADATA_DATE: 1997 6 15
DATA_FILE_SIZE: 40010460
BYTE_COUNT: 5268
