FILENAME: O4811119.SES.45598.tif
QUADRANGLE_NAME: ANTELOPE COULEE NW
QUADRANT: SE
WEST_LONGITUDE: -111 41 15.00000
EAST_LONGITUDE: -111 37 30.00000
NORTH_LATITUDE: 48 41 15.00000
SOUTH_LATITUDE: 48 37 30.00000
PRODUCTION_DATE: 1995 6 28
RASTER_ORDER: LEFT_RIGHT/TOP_BOTTOM
BAND_ORGANIZATION: SINGLE FILE
BAND_CONTENT: BLACK&WHITE
BAND_CONTENT: UNDEFINED
BAND_CONTENT: UNDEFINED
BITS_PER_PIXEL: 8
SAMPLES_AND_LINES: 5274 7598
HORIZONTAL_DATUM: NAD83
HORIZONTAL_COORDINATE_SYSTEM: UTM
COORDINATE_ZONE: 12
HORIZONTAL_UNITS: METERS
HORIZONTAL_RESOLUTION: 1.00000
SECONDARY_HORIZONTAL_DATUM: NAD27
XY_ORIGIN: 449033.50000 5393250.50000
SECONDARY_XY_ORIGIN: 449094.68800 5393031.28300
NATION: US
STATE: MT
NW_QUAD_CORNER_XY: 449400.83200 5392945.61000
NE_QUAD_CORNER_XY: 454000.73200 5392906.03500
SE_QUAD_CORNERY_XY: 453943.83400 5385958.67500
SW_QUAD_CORNER_XY: 449338.24400 5385998.26100
SECONDARY_NW_QUAD_XY: 449399.21700 5392726.62500
SECONDARY_NE_QUAD_XY: 453999.26400 5392687.04800
SECONDARY_SE_QUAD_XY: 453942.36600 5385739.69400
SECONDARY_SW_QUAD_XY: 449336.62900 5385779.28200
RMSE_XY: 1.30000
IMAGE_SOURCE: BLACK AND WHITE FILM
SOURCE_IMAGE_ID: NAPP 3889 162
SOURCE_IMAGE_DATE: 1991 7 12
SOURCE_DEM_DATE: 1995 6 28
AGENCY: WESTERN MAPPING CENTER (WMC)
PRODUCER: Woolpert Consultants
PRODUCTION_SYSTEM: INTERGRAPH ISPM,ISIR
COMPRESSION: UNDEFINED
STANDARD_VERSION: 1996 12
METADATA_DATE: 1997 6 15
DATA_FILE_SIZE: 40077126
BYTE_COUNT: 5274
