FILENAME: O4811116.NWS.1115472.tif
QUADRANGLE_NAME: MOUNT LEBANON
QUADRANT: NW
WEST_LONGITUDE: -111 7 30.00000
EAST_LONGITUDE: -111 3 45.00000
NORTH_LATITUDE: 48 52 30.00000
SOUTH_LATITUDE: 48 48 45.00000
PRODUCTION_DATE: 2000 10 17
RASTER_ORDER: LEFT_RIGHT/TOP_BOTTOM
BAND_ORGANIZATION: SINGLE FILE
BAND_CONTENT: BLACK&WHITE
BAND_CONTENT: UNDEFINED
BAND_CONTENT: UNDEFINED
BITS_PER_PIXEL: 8
SAMPLES_AND_LINES: 5257 7557
HORIZONTAL_DATUM: NAD83
HORIZONTAL_COORDINATE_SYSTEM: UTM
COORDINATE_ZONE: 12
HORIZONTAL_UNITS: METERS
HORIZONTAL_RESOLUTION: 1.00000
SECONDARY_HORIZONTAL_DATUM: NAD27
XY_ORIGIN: 490462.00000 5413869.00000
SECONDARY_XY_ORIGIN: 490520.80400 5413649.51100
NATION: US
NATION: "SCIENCE
STATE: MT
NW_QUAD_CORNER_XY: 490834.32800 5413567.80700
NE_QUAD_CORNER_XY: 495417.16400 5413562.15800
SE_QUAD_CORNERY_XY: 495411.45700 5406614.51900
SW_QUAD_CORNER_XY: 490822.91600 5406620.17000
SECONDARY_NW_QUAD_XY: 490834.03400 5413348.80100
SECONDARY_NE_QUAD_XY: 495417.01700 5413343.15200
SECONDARY_SE_QUAD_XY: 495411.31100 5406395.51700
SECONDARY_SW_QUAD_XY: 490822.62200 5406401.16700
RMSE_XY: 1.70000
IMAGE_SOURCE: BLACK AND WHITE FILM
SOURCE_IMAGE_ID: NAPP 9169 110
SOURCE_IMAGE_DATE: 1997 07 25
SOURCE_IMAGE_ID: NAPP 11015 009
SOURCE_IMAGE_DATE: 1998 08 13
SOURCE_IMAGE_ID: NAPP 9175 025
SOURCE_IMAGE_DATE: 1997 08 30
SOURCE_DEM_DATE: 1961 00 00
AGENCY: WESTERN MAPPING CENTER (WMC)
PRODUCER: UNDEFINED
PRODUCTION_SYSTEM: GIS/MAGIC
COMPRESSION: UNDEFINED
STANDARD_VERSION: 1996 12
METADATA_DATE: 2000 11 29
DATA_FILE_SIZE: 39732406
BYTE_COUNT: 5257
