FILENAME: O4811115.NWS.1115444.tif
QUADRANGLE_NAME: HAYSTACK BUTTE
QUADRANT: NW
WEST_LONGITUDE: -111 15 0.00000
EAST_LONGITUDE: -111 11 15.00000
NORTH_LATITUDE: 48 52 30.00000
SOUTH_LATITUDE: 48 48 45.00000
PRODUCTION_DATE: 2000 10 17
RASTER_ORDER: LEFT_RIGHT/TOP_BOTTOM
BAND_ORGANIZATION: SINGLE FILE
BAND_CONTENT: BLACK&WHITE
BAND_CONTENT: UNDEFINED
BAND_CONTENT: UNDEFINED
BITS_PER_PIXEL: 8
SAMPLES_AND_LINES: 5269 7564
HORIZONTAL_DATUM: NAD83
HORIZONTAL_COORDINATE_SYSTEM: UTM
COORDINATE_ZONE: 12
HORIZONTAL_UNITS: METERS
HORIZONTAL_RESOLUTION: 1.00000
SECONDARY_HORIZONTAL_DATUM: NAD27
XY_ORIGIN: 481284.00000 5413891.00000
SECONDARY_XY_ORIGIN: 481342.88800 5413671.43400
NATION: US
NATION: "SCIENCE
STATE: MT
NW_QUAD_CORNER_XY: 481668.66200 5413590.40100
NE_QUAD_CORNER_XY: 486251.49400 5413577.22100
SE_QUAD_CORNERY_XY: 486234.37500 5406629.58700
SW_QUAD_CORNER_XY: 481645.83700 5406642.77100
SECONDARY_NW_QUAD_XY: 481668.07400 5413371.39600
SECONDARY_NE_QUAD_XY: 486251.05300 5413358.21600
SECONDARY_SE_QUAD_XY: 486233.93500 5406410.58500
SECONDARY_SW_QUAD_XY: 481645.25000 5406423.76900
RMSE_XY: 2.80000
IMAGE_SOURCE: BLACK AND WHITE FILM
SOURCE_IMAGE_ID: NAPP 9170 038
SOURCE_IMAGE_DATE: 1997 08 22
SOURCE_DEM_DATE: 1961 00 00
AGENCY: WESTERN MAPPING CENTER (WMC)
PRODUCER: UNDEFINED
PRODUCTION_SYSTEM: GIS/MAGIC
COMPRESSION: UNDEFINED
STANDARD_VERSION: 1996 12
METADATA_DATE: 2000 11 07
DATA_FILE_SIZE: 39859985
BYTE_COUNT: 5269
