FILENAME: O4811113.SWS.45340.tif
QUADRANGLE_NAME: CAMERON LAKE
QUADRANT: SW
WEST_LONGITUDE: -111 30 0.00000
EAST_LONGITUDE: -111 26 15.00000
NORTH_LATITUDE: 48 48 45.00000
SOUTH_LATITUDE: 48 45 0.00000
PRODUCTION_DATE: 1995 6 27
RASTER_ORDER: LEFT_RIGHT/TOP_BOTTOM
BAND_ORGANIZATION: SINGLE FILE
BAND_CONTENT: BLACK&WHITE
BAND_CONTENT: UNDEFINED
BAND_CONTENT: UNDEFINED
BITS_PER_PIXEL: 8
SAMPLES_AND_LINES: 5244 7586
HORIZONTAL_DATUM: NAD83
HORIZONTAL_COORDINATE_SYSTEM: UTM
COORDINATE_ZONE: 12
HORIZONTAL_UNITS: METERS
HORIZONTAL_RESOLUTION: 1.00000
SECONDARY_HORIZONTAL_DATUM: NAD27
XY_ORIGIN: 462941.50000 5407037.50000
SECONDARY_XY_ORIGIN: 463001.13300 5406817.73800
NATION: US
STATE: MT
NW_QUAD_CORNER_XY: 463291.72000 5406733.17500
NE_QUAD_CORNER_XY: 467880.24200 5406704.92400
SE_QUAD_CORNERY_XY: 467840.33700 5399757.38700
SW_QUAD_CORNER_XY: 463246.11400 5399785.64600
SECONDARY_NW_QUAD_XY: 463290.54500 5406514.17700
SECONDARY_NE_QUAD_XY: 467879.21500 5406485.92400
SECONDARY_SE_QUAD_XY: 467839.31000 5399538.39200
SECONDARY_SW_QUAD_XY: 463244.93900 5399566.65200
RMSE_XY: 1.90000
IMAGE_SOURCE: BLACK AND WHITE FILM
SOURCE_IMAGE_ID: NAPP 3887 198
SOURCE_IMAGE_DATE: 1991 7 12
SOURCE_DEM_DATE: 1995 6 27
AGENCY: WESTERN MAPPING CENTER (WMC)
PRODUCER: Woolpert Consultants
PRODUCTION_SYSTEM: INTERGRAPH ISPM,ISIR
COMPRESSION: UNDEFINED
STANDARD_VERSION: 1996 12
METADATA_DATE: 1997 6 15
DATA_FILE_SIZE: 39786228
BYTE_COUNT: 5244
