FILENAME: O4811112.NWS.45469.tif
QUADRANGLE_NAME: FIVEMILE COULEE EAST
QUADRANT: NW
WEST_LONGITUDE: -111 37 30.00000
EAST_LONGITUDE: -111 33 45.00000
NORTH_LATITUDE: 48 52 30.00000
SOUTH_LATITUDE: 48 48 45.00000
PRODUCTION_DATE: 1995 6 28
RASTER_ORDER: LEFT_RIGHT/TOP_BOTTOM
BAND_ORGANIZATION: SINGLE FILE
BAND_CONTENT: BLACK&WHITE
BAND_CONTENT: UNDEFINED
BAND_CONTENT: UNDEFINED
BITS_PER_PIXEL: 8
SAMPLES_AND_LINES: 5250 7594
HORIZONTAL_DATUM: NAD83
HORIZONTAL_COORDINATE_SYSTEM: UTM
COORDINATE_ZONE: 12
HORIZONTAL_UNITS: METERS
HORIZONTAL_RESOLUTION: 1.00000
SECONDARY_HORIZONTAL_DATUM: NAD27
XY_ORIGIN: 453810.50000 5414053.50000
SECONDARY_XY_ORIGIN: 453870.56600 5413833.35900
NATION: US
STATE: MT
NW_QUAD_CORNER_XY: 454171.75600 5413748.56400
NE_QUAD_CORNER_XY: 458754.56000 5413712.78900
SE_QUAD_CORNERY_XY: 458703.20300 5406765.19400
SW_QUAD_CORNER_XY: 454114.69300 5406800.97900
SECONDARY_NW_QUAD_XY: 454170.28800 5413529.56400
SECONDARY_NE_QUAD_XY: 458753.23800 5413493.78800
SECONDARY_SE_QUAD_XY: 458701.88200 5406546.19600
SECONDARY_SW_QUAD_XY: 454113.22500 5406581.98300
RMSE_XY: 1.60000
IMAGE_SOURCE: BLACK AND WHITE FILM
SOURCE_IMAGE_ID: NAPP 3894 017
SOURCE_IMAGE_DATE: 1992 7 30
SOURCE_DEM_DATE: 1995 6 28
AGENCY: WESTERN MAPPING CENTER (WMC)
PRODUCER: Woolpert Consultants
PRODUCTION_SYSTEM: INTERGRAPH ISPM,ISIR
COMPRESSION: UNDEFINED
STANDARD_VERSION: 1996 12
METADATA_DATE: 1997 6 15
DATA_FILE_SIZE: 39873750
BYTE_COUNT: 5250
