FILENAME: O4811112.SES.45470.tif
QUADRANGLE_NAME: FIVEMILE COULEE EAST
QUADRANT: SE
WEST_LONGITUDE: -111 33 45.00000
EAST_LONGITUDE: -111 30 0.00000
NORTH_LATITUDE: 48 48 45.00000
SOUTH_LATITUDE: 48 45 0.00000
PRODUCTION_DATE: 1995 6 28
RASTER_ORDER: LEFT_RIGHT/TOP_BOTTOM
BAND_ORGANIZATION: SINGLE FILE
BAND_CONTENT: BLACK&WHITE
BAND_CONTENT: UNDEFINED
BAND_CONTENT: UNDEFINED
BITS_PER_PIXEL: 8
SAMPLES_AND_LINES: 5250 7590
HORIZONTAL_DATUM: NAD83
HORIZONTAL_COORDINATE_SYSTEM: UTM
COORDINATE_ZONE: 12
HORIZONTAL_UNITS: METERS
HORIZONTAL_RESOLUTION: 1.00000
SECONDARY_HORIZONTAL_DATUM: NAD27
XY_ORIGIN: 458347.50000 5407069.50000
SECONDARY_XY_ORIGIN: 458407.55000 5406849.70200
NATION: US
STATE: MT
NW_QUAD_CORNER_XY: 458703.20300 5406765.19400
NE_QUAD_CORNER_XY: 463291.72000 5406733.17500
SE_QUAD_CORNERY_XY: 463246.11400 5399785.64600
SW_QUAD_CORNER_XY: 458651.89600 5399817.67400
SECONDARY_NW_QUAD_XY: 458701.88200 5406546.19600
SECONDARY_NE_QUAD_XY: 463290.54500 5406514.17700
SECONDARY_SE_QUAD_XY: 463244.93900 5399566.65200
SECONDARY_SW_QUAD_XY: 458650.57500 5399598.68100
RMSE_XY: 1.50000
IMAGE_SOURCE: BLACK AND WHITE FILM
SOURCE_IMAGE_ID: NAPP 3889 090
SOURCE_IMAGE_DATE: 1991 7 12
SOURCE_DEM_DATE: 1995 6 28
AGENCY: WESTERN MAPPING CENTER (WMC)
PRODUCER: Woolpert Consultants
PRODUCTION_SYSTEM: INTERGRAPH ISPM,ISIR
COMPRESSION: UNDEFINED
STANDARD_VERSION: 1996 12
METADATA_DATE: 1997 6 15
DATA_FILE_SIZE: 39852750
BYTE_COUNT: 5250
