FILENAME: O4811111.SES.45594.tif
QUADRANGLE_NAME: FIVEMILE COULEE WEST
QUADRANT: SE
WEST_LONGITUDE: -111 41 15.00000
EAST_LONGITUDE: -111 37 30.00000
NORTH_LATITUDE: 48 48 45.00000
SOUTH_LATITUDE: 48 45 0.00000
PRODUCTION_DATE: 1995 6 28
RASTER_ORDER: LEFT_RIGHT/TOP_BOTTOM
BAND_ORGANIZATION: SINGLE FILE
BAND_CONTENT: BLACK&WHITE
BAND_CONTENT: UNDEFINED
BAND_CONTENT: UNDEFINED
BITS_PER_PIXEL: 8
SAMPLES_AND_LINES: 5262 7598
HORIZONTAL_DATUM: NAD83
HORIZONTAL_COORDINATE_SYSTEM: UTM
COORDINATE_ZONE: 12
HORIZONTAL_UNITS: METERS
HORIZONTAL_RESOLUTION: 1.00000
SECONDARY_HORIZONTAL_DATUM: NAD27
XY_ORIGIN: 449158.50000 5407145.50000
SECONDARY_XY_ORIGIN: 449219.38400 5406925.62700
NATION: US
STATE: MT
NW_QUAD_CORNER_XY: 449526.19000 5406840.53200
NE_QUAD_CORNER_XY: 454114.69300 5406800.97900
SE_QUAD_CORNERY_XY: 454057.68500 5399853.47000
SW_QUAD_CORNER_XY: 449463.48000 5399893.03400
SECONDARY_NW_QUAD_XY: 449524.57500 5406621.53700
SECONDARY_NE_QUAD_XY: 454113.22500 5406581.98300
SECONDARY_SE_QUAD_XY: 454056.21700 5399634.47800
SECONDARY_SW_QUAD_XY: 449461.86500 5399674.04300
RMSE_XY: 1.20000
IMAGE_SOURCE: BLACK AND WHITE FILM
SOURCE_IMAGE_ID: NAPP 3889 158
SOURCE_IMAGE_DATE: 1991 7 12
SOURCE_DEM_DATE: 1995 6 28
AGENCY: WESTERN MAPPING CENTER (WMC)
PRODUCER: Woolpert Consultants
PRODUCTION_SYSTEM: INTERGRAPH ISPM,ISIR
COMPRESSION: UNDEFINED
STANDARD_VERSION: 1996 12
METADATA_DATE: 1997 6 15
DATA_FILE_SIZE: 39985938
BYTE_COUNT: 5262
