FILENAME: O4811109.SWS.45908.tif
QUADRANGLE_NAME: KEVIN NORTH
QUADRANT: SW
WEST_LONGITUDE: -112 0 0.00000
EAST_LONGITUDE: -111 56 15.00000
NORTH_LATITUDE: 48 48 45.00000
SOUTH_LATITUDE: 48 45 0.00000
PRODUCTION_DATE: 1995 6 27
RASTER_ORDER: LEFT_RIGHT/TOP_BOTTOM
BAND_ORGANIZATION: SINGLE FILE
BAND_CONTENT: BLACK&WHITE
BAND_CONTENT: UNDEFINED
BAND_CONTENT: UNDEFINED
BITS_PER_PIXEL: 8
SAMPLES_AND_LINES: 5290 7616
HORIZONTAL_DATUM: NAD83
HORIZONTAL_COORDINATE_SYSTEM: UTM
COORDINATE_ZONE: 12
HORIZONTAL_UNITS: METERS
HORIZONTAL_RESOLUTION: 1.00000
SECONDARY_HORIZONTAL_DATUM: NAD27
XY_ORIGIN: 426188.50000 5407399.50000
SECONDARY_XY_ORIGIN: 426250.43300 5407180.58200
NATION: US
STATE: MT
NW_QUAD_CORNER_XY: 426583.80700 5407094.80700
NE_QUAD_CORNER_XY: 431172.26300 5407036.41700
SE_QUAD_CORNERY_XY: 431086.74800 5400088.97400
SW_QUAD_CORNER_XY: 426492.58900 5400147.38100
SECONDARY_NW_QUAD_XY: 426581.45800 5406875.81900
SECONDARY_NE_QUAD_XY: 431170.06100 5406817.42800
SECONDARY_SE_QUAD_XY: 431084.54600 5399869.99000
SECONDARY_SW_QUAD_XY: 426490.24000 5399928.39800
RMSE_XY: 1.10000
IMAGE_SOURCE: BLACK AND WHITE FILM
SOURCE_IMAGE_ID: NAPP 3890 030
SOURCE_IMAGE_DATE: 1991 7 20
SOURCE_DEM_DATE: 1995 6 27
AGENCY: WESTERN MAPPING CENTER (WMC)
PRODUCER: Woolpert Consultants
PRODUCTION_SYSTEM: INTERGRAPH ISPM,ISIR
COMPRESSION: UNDEFINED
STANDARD_VERSION: 1996 12
METADATA_DATE: 1997 6 15
DATA_FILE_SIZE: 40293930
BYTE_COUNT: 5290
