FILENAME: O4811108.SWS.1115470.tif
QUADRANGLE_NAME: BINGHAM LAKE
QUADRANT: SW
WEST_LONGITUDE: -111 7 30.00000
EAST_LONGITUDE: -111 3 45.00000
NORTH_LATITUDE: 48 56 15.00000
SOUTH_LATITUDE: 48 52 30.00000
PRODUCTION_DATE: 2000 10 17
RASTER_ORDER: LEFT_RIGHT/TOP_BOTTOM
BAND_ORGANIZATION: SINGLE FILE
BAND_CONTENT: BLACK&WHITE
BAND_CONTENT: UNDEFINED
BAND_CONTENT: UNDEFINED
BITS_PER_PIXEL: 8
SAMPLES_AND_LINES: 5250 7557
HORIZONTAL_DATUM: NAD83
HORIZONTAL_COORDINATE_SYSTEM: UTM
COORDINATE_ZONE: 12
HORIZONTAL_UNITS: METERS
HORIZONTAL_RESOLUTION: 1.00000
SECONDARY_HORIZONTAL_DATUM: NAD27
XY_ORIGIN: 490474.00000 5420817.00000
SECONDARY_XY_ORIGIN: 490532.44200 5420597.06400
NATION: US
NATION: "SCIENCE
STATE: MT
NW_QUAD_CORNER_XY: 490845.75100 5420515.51900
NE_QUAD_CORNER_XY: 495422.87500 5420509.87200
SE_QUAD_CORNERY_XY: 495417.16400 5413562.15800
SW_QUAD_CORNER_XY: 490834.32800 5413567.80700
SECONDARY_NW_QUAD_XY: 490845.45800 5420296.51100
SECONDARY_NE_QUAD_XY: 495422.72800 5420290.86400
SECONDARY_SE_QUAD_XY: 495417.01700 5413343.15200
SECONDARY_SW_QUAD_XY: 490834.03400 5413348.80100
RMSE_XY: 1.10000
IMAGE_SOURCE: BLACK AND WHITE FILM
SOURCE_IMAGE_ID: NAPP 9175 026
SOURCE_IMAGE_DATE: 1997 08 30
SOURCE_IMAGE_ID: NAPP 9169 100
SOURCE_IMAGE_DATE: 1997 07 25
SOURCE_DEM_DATE: 1961 00 00
AGENCY: WESTERN MAPPING CENTER (WMC)
PRODUCER: UNDEFINED
PRODUCTION_SYSTEM: GIS/MAGIC
COMPRESSION: UNDEFINED
STANDARD_VERSION: 1996 12
METADATA_DATE: 2000 11 29
DATA_FILE_SIZE: 39679500
BYTE_COUNT: 5250
