FILENAME: O4811107.NES.1115455.tif
QUADRANGLE_NAME: HAWLEY HILL
QUADRANT: NE
WEST_LONGITUDE: -111 11 15.00000
EAST_LONGITUDE: -111 7 30.00000
NORTH_LATITUDE: 49 0 0.00000
SOUTH_LATITUDE: 48 56 15.00000
PRODUCTION_DATE: 2000 11 7
RASTER_ORDER: LEFT_RIGHT/TOP_BOTTOM
BAND_ORGANIZATION: SINGLE FILE
BAND_CONTENT: BLACK&WHITE
BAND_CONTENT: UNDEFINED
BAND_CONTENT: UNDEFINED
BITS_PER_PIXEL: 8
SAMPLES_AND_LINES: 5251 7562
HORIZONTAL_DATUM: NAD83
HORIZONTAL_COORDINATE_SYSTEM: UTM
COORDINATE_ZONE: 12
HORIZONTAL_UNITS: METERS
HORIZONTAL_RESOLUTION: 1.00000
SECONDARY_HORIZONTAL_DATUM: NAD27
XY_ORIGIN: 485908.00000 5427775.00000
SECONDARY_XY_ORIGIN: 485966.09000 5427554.56800
NATION: US
NATION: CA
NATION: "SCIENCE
STATE: MT
NW_QUAD_CORNER_XY: 486285.78000 5427472.71600
NE_QUAD_CORNER_XY: 490857.18500 5427463.30800
SE_QUAD_CORNERY_XY: 490845.75100 5420515.51900
SW_QUAD_CORNER_XY: 486268.62900 5420524.93100
SECONDARY_NW_QUAD_XY: 486285.34000 5427253.70700
SECONDARY_NE_QUAD_XY: 490856.89200 5427244.29800
SECONDARY_SE_QUAD_XY: 490845.45800 5420296.51100
SECONDARY_SW_QUAD_XY: 486268.18800 5420305.92300
RMSE_XY: 6.30000
IMAGE_SOURCE: BLACK AND WHITE FILM
SOURCE_IMAGE_ID: NAPP 11015 012
SOURCE_IMAGE_DATE: 1998 08 13
SOURCE_IMAGE_ID: NAPP 9170 043
SOURCE_IMAGE_DATE: 1997 08 22
SOURCE_DEM_DATE: 1961 00 00
AGENCY: WESTERN MAPPING CENTER (WMC)
PRODUCER: UNDEFINED
PRODUCTION_SYSTEM: GIS/MAGIC
COMPRESSION: UNDEFINED
STANDARD_VERSION: 1996 12
METADATA_DATE: 2000 11 29
DATA_FILE_SIZE: 39713313
BYTE_COUNT: 5251
