FILENAME: O4811107.NWS.1115456.tif
QUADRANGLE_NAME: HAWLEY HILL
QUADRANT: NW
WEST_LONGITUDE: -111 15 0.00000
EAST_LONGITUDE: -111 11 15.00000
NORTH_LATITUDE: 49 0 0.00000
SOUTH_LATITUDE: 48 56 15.00000
PRODUCTION_DATE: 2000 11 6
RASTER_ORDER: LEFT_RIGHT/TOP_BOTTOM
BAND_ORGANIZATION: SINGLE FILE
BAND_CONTENT: BLACK&WHITE
BAND_CONTENT: UNDEFINED
BAND_CONTENT: UNDEFINED
BITS_PER_PIXEL: 8
SAMPLES_AND_LINES: 5256 7566
HORIZONTAL_DATUM: NAD83
HORIZONTAL_COORDINATE_SYSTEM: UTM
COORDINATE_ZONE: 12
HORIZONTAL_UNITS: METERS
HORIZONTAL_RESOLUTION: 1.00000
SECONDARY_HORIZONTAL_DATUM: NAD27
XY_ORIGIN: 481331.00000 5427788.00000
SECONDARY_XY_ORIGIN: 481389.09900 5427567.51900
NATION: US
NATION: CA
NATION: "SCIENCE
STATE: MT
NW_QUAD_CORNER_XY: 481714.37700 5427485.88800
NE_QUAD_CORNER_XY: 486285.78000 5427472.71600
SE_QUAD_CORNERY_XY: 486268.62900 5420524.93100
SW_QUAD_CORNER_XY: 481691.50800 5420538.10700
SECONDARY_NW_QUAD_XY: 481713.79000 5427266.87900
SECONDARY_NE_QUAD_XY: 486285.34000 5427253.70700
SECONDARY_SE_QUAD_XY: 486268.18800 5420305.92300
SECONDARY_SW_QUAD_XY: 481690.92100 5420319.09900
RMSE_XY: 0.50000
IMAGE_SOURCE: BLACK AND WHITE FILM
SOURCE_IMAGE_ID: NAPP 9170 042
SOURCE_IMAGE_DATE: 1997 08 22
SOURCE_DEM_DATE: 1961 00 00
AGENCY: WESTERN MAPPING CENTER (WMC)
PRODUCER: UNDEFINED
PRODUCTION_SYSTEM: GIS/MAGIC
COMPRESSION: UNDEFINED
STANDARD_VERSION: 1996 12
METADATA_DATE: 2000 11 29
DATA_FILE_SIZE: 39772152
BYTE_COUNT: 5256
