FILENAME: O4811107.SWS.1115458.tif
QUADRANGLE_NAME: HAWLEY HILL
QUADRANT: SW
WEST_LONGITUDE: -111 15 0.00000
EAST_LONGITUDE: -111 11 15.00000
NORTH_LATITUDE: 48 56 15.00000
SOUTH_LATITUDE: 48 52 30.00000
PRODUCTION_DATE: 2000 10 17
RASTER_ORDER: LEFT_RIGHT/TOP_BOTTOM
BAND_ORGANIZATION: SINGLE FILE
BAND_CONTENT: BLACK&WHITE
BAND_CONTENT: UNDEFINED
BAND_CONTENT: UNDEFINED
BITS_PER_PIXEL: 8
SAMPLES_AND_LINES: 5262 7565
HORIZONTAL_DATUM: NAD83
HORIZONTAL_COORDINATE_SYSTEM: UTM
COORDINATE_ZONE: 12
HORIZONTAL_UNITS: METERS
HORIZONTAL_RESOLUTION: 1.00000
SECONDARY_HORIZONTAL_DATUM: NAD27
XY_ORIGIN: 481308.00000 5420840.00000
SECONDARY_XY_ORIGIN: 481366.49300 5420619.97700
NATION: US
NATION: "SCIENCE
STATE: MT
NW_QUAD_CORNER_XY: 481691.50800 5420538.10700
NE_QUAD_CORNER_XY: 486268.62900 5420524.93100
SE_QUAD_CORNERY_XY: 486251.49400 5413577.22100
SW_QUAD_CORNER_XY: 481668.66200 5413590.40100
SECONDARY_NW_QUAD_XY: 481690.92100 5420319.09900
SECONDARY_NE_QUAD_XY: 486268.18800 5420305.92300
SECONDARY_SE_QUAD_XY: 486251.05300 5413358.21600
SECONDARY_SW_QUAD_XY: 481668.07400 5413371.39600
RMSE_XY: 1.10000
IMAGE_SOURCE: BLACK AND WHITE FILM
SOURCE_IMAGE_ID: NAPP 9170 040
SOURCE_IMAGE_DATE: 1997 08 22
SOURCE_IMAGE_ID: NAPP 9170 039
SOURCE_IMAGE_DATE: 1997 08 22
SOURCE_DEM_DATE: 1961 00 00
AGENCY: WESTERN MAPPING CENTER (WMC)
PRODUCER: UNDEFINED
PRODUCTION_SYSTEM: GIS/MAGIC
COMPRESSION: UNDEFINED
STANDARD_VERSION: 1996 12
METADATA_DATE: 2000 11 29
DATA_FILE_SIZE: 39812292
BYTE_COUNT: 5262
