FILENAME: O4811106.SES.958429.tif
QUADRANGLE_NAME: WHITLASH
QUADRANT: SE
WEST_LONGITUDE: -111 18 45.00000
EAST_LONGITUDE: -111 15 0.00000
NORTH_LATITUDE: 48 56 15.00000
SOUTH_LATITUDE: 48 52 30.00000
PRODUCTION_DATE: 1999 1 22
RASTER_ORDER: LEFT_RIGHT/TOP_BOTTOM
BAND_ORGANIZATION: SINGLE FILE
BAND_CONTENT: BLACK&WHITE
BAND_CONTENT: UNDEFINED
BAND_CONTENT: UNDEFINED
BITS_PER_PIXEL: 8
SAMPLES_AND_LINES: 5268 7569
HORIZONTAL_DATUM: NAD83
HORIZONTAL_COORDINATE_SYSTEM: UTM
COORDINATE_ZONE: 12
HORIZONTAL_UNITS: METERS
HORIZONTAL_RESOLUTION: 1.00000
SECONDARY_HORIZONTAL_DATUM: NAD27
XY_ORIGIN: 476725.00000 5420857.00000
SECONDARY_XY_ORIGIN: 476783.53900 5420636.83800
NATION: US
STATE: MT
NW_QUAD_CORNER_XY: 477114.39100 5420555.04800
NE_QUAD_CORNER_XY: 481691.50800 5420538.10800
SE_QUAD_CORNERY_XY: 481668.66200 5413590.40200
SW_QUAD_CORNER_XY: 477085.83200 5413607.34800
SECONDARY_NW_QUAD_XY: 477113.65700 5420336.04100
SECONDARY_NE_QUAD_XY: 481690.92100 5420319.10000
SECONDARY_SE_QUAD_XY: 481668.07400 5413371.39700
SECONDARY_SW_QUAD_XY: 477085.09800 5413388.34300
RMSE_XY: 2.20000
IMAGE_SOURCE: BLACK AND WHITE FILM
SOURCE_IMAGE_ID: NAPP 9175 035
SOURCE_IMAGE_DATE: 1997 8 30
SOURCE_DEM_DATE: 1961 0 0
AGENCY: WESTERN MAPPING CENTER (WMC)
PRODUCER: ROCKY MOUNTAIN MAPPING CENTER (RMMC)
PRODUCTION_SYSTEM: DV2.6.3 10/9OV2.4 5/95
COMPRESSION: UNDEFINED
STANDARD_VERSION: 1996 12
METADATA_DATE: 1999 1 22
DATA_FILE_SIZE: 39878760
BYTE_COUNT: 5268
