FILENAME: O4811105.NES.958422.tif
QUADRANGLE_NAME: FEY LAKES
QUADRANT: NE
WEST_LONGITUDE: -111 26 15.00000
EAST_LONGITUDE: -111 22 30.00000
NORTH_LATITUDE: 49 0 0.00000
SOUTH_LATITUDE: 48 56 15.00000
PRODUCTION_DATE: 1999 1 19
RASTER_ORDER: LEFT_RIGHT/TOP_BOTTOM
BAND_ORGANIZATION: SINGLE FILE
BAND_CONTENT: BLACK&WHITE
BAND_CONTENT: UNDEFINED
BAND_CONTENT: UNDEFINED
BITS_PER_PIXEL: 8
SAMPLES_AND_LINES: 5272 7577
HORIZONTAL_DATUM: NAD83
HORIZONTAL_COORDINATE_SYSTEM: UTM
COORDINATE_ZONE: 12
HORIZONTAL_UNITS: METERS
HORIZONTAL_RESOLUTION: 1.00000
SECONDARY_HORIZONTAL_DATUM: NAD27
XY_ORIGIN: 467599.00000 5427851.00000
SECONDARY_XY_ORIGIN: 467657.00000 5427631.00000
NATION: US
NATION: CA
STATE: MT
NW_QUAD_CORNER_XY: 468000.18800 5427547.98700
NE_QUAD_CORNER_XY: 472571.58000 5427523.52400
SE_QUAD_CORNERY_XY: 472537.27700 5420575.75400
SW_QUAD_CORNER_XY: 467960.16800 5420600.22400
SECONDARY_NW_QUAD_XY: 467999.16100 5427328.98000
SECONDARY_NE_QUAD_XY: 472570.69900 5427304.51600
SECONDARY_SE_QUAD_XY: 472536.39600 5420356.74800
SECONDARY_SW_QUAD_XY: 467959.14000 5420381.21800
RMSE_XY: 2.80000
IMAGE_SOURCE: BLACK AND WHITE FILM
SOURCE_IMAGE_ID: NAPP 9176 101
SOURCE_IMAGE_DATE: 1997 8 30
SOURCE_DEM_DATE: 1983 0 0
AGENCY: WESTERN MAPPING CENTER (WMC)
PRODUCER: ROCKY MOUNTAIN MAPPING CENTER (RMMC)
PRODUCTION_SYSTEM: DV2.6.3 10/9OV2.4 5/95
COMPRESSION: UNDEFINED
STANDARD_VERSION: 1996 12
METADATA_DATE: 1999 1 19
DATA_FILE_SIZE: 39951216
BYTE_COUNT: 5272
