FILENAME: O4811104.NES.958406.tif
QUADRANGLE_NAME: WEST BUTTE
QUADRANT: NE
WEST_LONGITUDE: -111 33 45.00000
EAST_LONGITUDE: -111 30 0.00000
NORTH_LATITUDE: 49 0 0.00000
SOUTH_LATITUDE: 48 56 15.00000
PRODUCTION_DATE: 1999 1 19
RASTER_ORDER: LEFT_RIGHT/TOP_BOTTOM
BAND_ORGANIZATION: SINGLE FILE
BAND_CONTENT: BLACK&WHITE
BAND_CONTENT: UNDEFINED
BAND_CONTENT: UNDEFINED
BITS_PER_PIXEL: 8
SAMPLES_AND_LINES: 5284 7585
HORIZONTAL_DATUM: NAD83
HORIZONTAL_COORDINATE_SYSTEM: UTM
COORDINATE_ZONE: 12
HORIZONTAL_UNITS: METERS
HORIZONTAL_RESOLUTION: 1.00000
SECONDARY_HORIZONTAL_DATUM: NAD27
XY_ORIGIN: 458444.00000 5427911.00000
SECONDARY_XY_ORIGIN: 458502.00000 5427691.00000
NATION: US
NATION: CA
STATE: MT
NW_QUAD_CORNER_XY: 458857.42100 5427608.20300
NE_QUAD_CORNER_XY: 463428.80200 5427576.21300
SE_QUAD_CORNERY_XY: 463383.06400 5420628.45900
SW_QUAD_CORNER_XY: 458805.96600 5420660.45900
SECONDARY_NW_QUAD_XY: 458856.10000 5427389.19800
SECONDARY_NE_QUAD_XY: 463427.62700 5427357.20700
SECONDARY_SE_QUAD_XY: 463381.88900 5420409.45400
SECONDARY_SW_QUAD_XY: 458804.64400 5420441.45500
RMSE_XY: 2.60000
IMAGE_SOURCE: BLACK AND WHITE FILM
SOURCE_IMAGE_ID: NAPP 9176 045
SOURCE_IMAGE_DATE: 1997 8 30
SOURCE_DEM_DATE: 1983 0 0
AGENCY: WESTERN MAPPING CENTER (WMC)
PRODUCER: ROCKY MOUNTAIN MAPPING CENTER (RMMC)
PRODUCTION_SYSTEM: DV2.6.3 10/9OV2.4 5/95
COMPRESSION: UNDEFINED
STANDARD_VERSION: 1996 12
METADATA_DATE: 1999 1 19
DATA_FILE_SIZE: 40084424
BYTE_COUNT: 5284
