FILENAME: O4811364.NWS.46727.tif
QUADRANGLE_NAME: GOOSEBERRY PEAK
QUADRANT: NW
WEST_LONGITUDE: -113 7 30.00000
EAST_LONGITUDE: -113 3 45.00000
NORTH_LATITUDE: 48 7 30.00000
SOUTH_LATITUDE: 48 3 45.00000
PRODUCTION_DATE: 1994 11 14
RASTER_ORDER: LEFT_RIGHT/TOP_BOTTOM
BAND_ORGANIZATION: SINGLE FILE
BAND_CONTENT: BLACK&WHITE
BAND_CONTENT: UNDEFINED
BAND_CONTENT: UNDEFINED
BITS_PER_PIXEL: 8
SAMPLES_AND_LINES: 5513 7679
HORIZONTAL_DATUM: NAD83
HORIZONTAL_COORDINATE_SYSTEM: UTM
COORDINATE_ZONE: 12
HORIZONTAL_UNITS: METERS
HORIZONTAL_RESOLUTION: 1.00000
SECONDARY_HORIZONTAL_DATUM: NAD27
XY_ORIGIN: 341311.00000 5332678.00000
SECONDARY_XY_ORIGIN: 341373.72900 5332462.20900
NATION: US
STATE: MT
NW_QUAD_CORNER_XY: 341871.76600 5332377.51800
NE_QUAD_CORNER_XY: 346522.37600 5332250.91900
SE_QUAD_CORNERY_XY: 346336.20100 5325304.67000
SW_QUAD_CORNER_XY: 341679.94400 5325431.29900
SECONDARY_NW_QUAD_XY: 341866.77600 5332158.67900
SECONDARY_NE_QUAD_XY: 346517.53300 5332032.07500
SECONDARY_SE_QUAD_XY: 346331.35800 5325085.84000
SECONDARY_SW_QUAD_XY: 341674.95500 5325212.47300
RMSE_XY: 4.10000
IMAGE_SOURCE: BLACK AND WHITE FILM
SOURCE_IMAGE_ID: NAPP 2611 020
SOURCE_IMAGE_DATE: 1990 8 8
SOURCE_DEM_DATE: 1994 11 14
AGENCY: WESTERN MAPPING CENTER (WMC)
PRODUCER: Science Applications International
PRODUCTION_SYSTEM: IIS/PRISM
COMPRESSION: UNDEFINED
STANDARD_VERSION: 1996 12
METADATA_DATE: 1997 7 3
DATA_FILE_SIZE: 42339840
BYTE_COUNT: 5513
