FILENAME: O4811364.SWS.46729.tif
QUADRANGLE_NAME: GOOSEBERRY PEAK
QUADRANT: SW
WEST_LONGITUDE: -113 7 30.00000
EAST_LONGITUDE: -113 3 45.00000
NORTH_LATITUDE: 48 3 45.00000
SOUTH_LATITUDE: 48 0 0.00000
PRODUCTION_DATE: 1994 11 22
RASTER_ORDER: LEFT_RIGHT/TOP_BOTTOM
BAND_ORGANIZATION: SINGLE FILE
BAND_CONTENT: BLACK&WHITE
BAND_CONTENT: UNDEFINED
BAND_CONTENT: UNDEFINED
BITS_PER_PIXEL: 8
SAMPLES_AND_LINES: 5519 7680
HORIZONTAL_DATUM: NAD83
HORIZONTAL_COORDINATE_SYSTEM: UTM
COORDINATE_ZONE: 12
HORIZONTAL_UNITS: METERS
HORIZONTAL_RESOLUTION: 1.00000
SECONDARY_HORIZONTAL_DATUM: NAD27
XY_ORIGIN: 341119.00000 5325732.00000
SECONDARY_XY_ORIGIN: 341181.61900 5325516.60000
NATION: US
STATE: MT
NW_QUAD_CORNER_XY: 341679.94400 5325431.29900
NE_QUAD_CORNER_XY: 346336.20100 5325304.67000
SE_QUAD_CORNERY_XY: 346150.20900 5318358.48800
SW_QUAD_CORNER_XY: 341488.31300 5318485.14600
SECONDARY_NW_QUAD_XY: 341674.95500 5325212.47300
SECONDARY_NE_QUAD_XY: 346331.35800 5325085.84000
SECONDARY_SE_QUAD_XY: 346145.36700 5318139.67200
SECONDARY_SW_QUAD_XY: 341483.32400 5318266.33400
RMSE_XY: 4.50000
IMAGE_SOURCE: BLACK AND WHITE FILM
SOURCE_IMAGE_ID: NAPP 2611 018
SOURCE_IMAGE_DATE: 1990 8 8
SOURCE_DEM_DATE: 1994 11 22
AGENCY: WESTERN MAPPING CENTER (WMC)
PRODUCER: Science Applications International
PRODUCTION_SYSTEM: IIS/PRISM
COMPRESSION: UNDEFINED
STANDARD_VERSION: 1996 12
METADATA_DATE: 1997 7 3
DATA_FILE_SIZE: 42391439
BYTE_COUNT: 5519
