FILENAME: O4811363.SES.46900.tif
QUADRANGLE_NAME: GABLE PEAKS
QUADRANT: SE
WEST_LONGITUDE: -113 11 15.00000
EAST_LONGITUDE: -113 7 30.00000
NORTH_LATITUDE: 48 3 45.00000
SOUTH_LATITUDE: 48 0 0.00000
PRODUCTION_DATE: 1995 4 28
RASTER_ORDER: LEFT_RIGHT/TOP_BOTTOM
BAND_ORGANIZATION: SINGLE FILE
BAND_CONTENT: BLACK&WHITE
BAND_CONTENT: UNDEFINED
BAND_CONTENT: UNDEFINED
BITS_PER_PIXEL: 8
SAMPLES_AND_LINES: 5524 7683
HORIZONTAL_DATUM: NAD83
HORIZONTAL_COORDINATE_SYSTEM: UTM
COORDINATE_ZONE: 12
HORIZONTAL_UNITS: METERS
HORIZONTAL_RESOLUTION: 1.00000
SECONDARY_HORIZONTAL_DATUM: NAD27
XY_ORIGIN: 336457.00000 5325862.00000
SECONDARY_XY_ORIGIN: 336519.77000 5325646.57000
NATION: US
STATE: MT
NW_QUAD_CORNER_XY: 337023.71000 5325561.71000
NE_QUAD_CORNER_XY: 341679.94000 5325431.30000
SE_QUAD_CORNERY_XY: 341488.31000 5318485.14000
SW_QUAD_CORNER_XY: 336826.44000 5318615.59000
SECONDARY_NW_QUAD_XY: 337018.57000 5325342.89000
SECONDARY_NE_QUAD_XY: 341674.96000 5325212.47000
SECONDARY_SE_QUAD_XY: 341483.32000 5318266.33000
SECONDARY_SW_QUAD_XY: 336821.30000 5318396.78000
RMSE_XY: 6.70000
IMAGE_SOURCE: BLACK AND WHITE FILM
SOURCE_IMAGE_ID: NAPP 2611 41
SOURCE_IMAGE_DATE: 1990 8 8
SOURCE_IMAGE_ID: NAPP 2611 2611
SOURCE_IMAGE_DATE: 1990 8 8
SOURCE_IMAGE_ID: NAPP 2611 42
SOURCE_IMAGE_DATE: 1990 8 8
SOURCE_DEM_DATE: 1995 4 28
AGENCY: WESTERN MAPPING CENTER (WMC)
PRODUCER: Science Applications International
PRODUCTION_SYSTEM: GIS/MAGIC
COMPRESSION: UNDEFINED
STANDARD_VERSION: 1996 12
METADATA_DATE: 1997 7 4
DATA_FILE_SIZE: 42446416
BYTE_COUNT: 5524
