FILENAME: O4811362.SES.47098.tif
QUADRANGLE_NAME: CAPITOL MOUNTAIN
QUADRANT: SE
WEST_LONGITUDE: -113 18 45.00000
EAST_LONGITUDE: -113 15 0.00000
NORTH_LATITUDE: 48 3 45.00000
SOUTH_LATITUDE: 48 0 0.00000
PRODUCTION_DATE: 1994 11 14
RASTER_ORDER: LEFT_RIGHT/TOP_BOTTOM
BAND_ORGANIZATION: SINGLE FILE
BAND_CONTENT: BLACK&WHITE
BAND_CONTENT: UNDEFINED
BAND_CONTENT: UNDEFINED
BITS_PER_PIXEL: 8
SAMPLES_AND_LINES: 5536 7690
HORIZONTAL_DATUM: NAD83
HORIZONTAL_COORDINATE_SYSTEM: UTM
COORDINATE_ZONE: 12
HORIZONTAL_UNITS: METERS
HORIZONTAL_RESOLUTION: 1.00000
SECONDARY_HORIZONTAL_DATUM: NAD27
XY_ORIGIN: 327133.00000 5326134.00000
SECONDARY_XY_ORIGIN: 327195.98900 5325918.47600
NATION: US
STATE: MT
NW_QUAD_CORNER_XY: 327711.29800 5325833.88500
NE_QUAD_CORNER_XY: 332367.49200 5325695.90600
SE_QUAD_CORNERY_XY: 332164.57900 5318749.81300
SW_QUAD_CORNER_XY: 327502.74300 5318887.82400
SECONDARY_NW_QUAD_XY: 327705.86900 5325615.07100
SECONDARY_NE_QUAD_XY: 332362.21000 5325477.08800
SECONDARY_SE_QUAD_XY: 332159.29700 5318531.01000
SECONDARY_SW_QUAD_XY: 327497.31400 5318669.02500
RMSE_XY: 3.20000
IMAGE_SOURCE: BLACK AND WHITE FILM
SOURCE_IMAGE_ID: NAPP 2635 042
SOURCE_IMAGE_DATE: 1991 8 4
SOURCE_DEM_DATE: 1994 11 14
AGENCY: WESTERN MAPPING CENTER (WMC)
PRODUCER: Science Applications International
PRODUCTION_SYSTEM: IIS/PRISM
COMPRESSION: UNDEFINED
STANDARD_VERSION: 1996 12
METADATA_DATE: 1997 7 4
DATA_FILE_SIZE: 42577376
BYTE_COUNT: 5536
