FILENAME: O4811362.SWS.47099.tif
QUADRANGLE_NAME: CAPITOL MOUNTAIN
QUADRANT: SW
WEST_LONGITUDE: -113 22 30.00000
EAST_LONGITUDE: -113 18 45.00000
NORTH_LATITUDE: 48 3 45.00000
SOUTH_LATITUDE: 48 0 0.00000
PRODUCTION_DATE: 1995 4 28
RASTER_ORDER: LEFT_RIGHT/TOP_BOTTOM
BAND_ORGANIZATION: SINGLE FILE
BAND_CONTENT: BLACK&WHITE
BAND_CONTENT: UNDEFINED
BAND_CONTENT: UNDEFINED
BITS_PER_PIXEL: 8
SAMPLES_AND_LINES: 5542 7694
HORIZONTAL_DATUM: NAD83
HORIZONTAL_COORDINATE_SYSTEM: UTM
COORDINATE_ZONE: 12
HORIZONTAL_UNITS: METERS
HORIZONTAL_RESOLUTION: 1.00000
SECONDARY_HORIZONTAL_DATUM: NAD27
XY_ORIGIN: 322471.00000 5326276.00000
SECONDARY_XY_ORIGIN: 322534.07000 5326060.42000
NATION: US
STATE: MT
NW_QUAD_CORNER_XY: 323055.13000 5325975.65000
NE_QUAD_CORNER_XY: 327711.30000 5325833.88000
SE_QUAD_CORNERY_XY: 327502.74000 5318887.82000
SW_QUAD_CORNER_XY: 322840.93000 5319029.62000
SECONDARY_NW_QUAD_XY: 323049.55000 5325756.84000
SECONDARY_NE_QUAD_XY: 327705.87000 5325615.07000
SECONDARY_SE_QUAD_XY: 327497.31000 5318669.02000
SECONDARY_SW_QUAD_XY: 322835.35000 5318810.82000
RMSE_XY: 4.10000
IMAGE_SOURCE: BLACK AND WHITE FILM
SOURCE_IMAGE_ID: NAPP 2635 23
SOURCE_IMAGE_DATE: 1991 8 4
SOURCE_IMAGE_ID: NAPP 2635 2635
SOURCE_IMAGE_DATE: 1991 8 4
SOURCE_IMAGE_ID: NAPP 2635 24
SOURCE_IMAGE_DATE: 1991 8 4
SOURCE_DEM_DATE: 1995 4 28
AGENCY: WESTERN MAPPING CENTER (WMC)
PRODUCER: Science Applications International
PRODUCTION_SYSTEM: GIS/MAGIC
COMPRESSION: UNDEFINED
STANDARD_VERSION: 1996 12
METADATA_DATE: 1997 7 4
DATA_FILE_SIZE: 42645690
BYTE_COUNT: 5542
